BEGIN:VCALENDAR
VERSION:2.0
PRODID:-//wp-events-plugin.com//7.2.3.1//EN
TZID:Europe/Berlin
X-WR-TIMEZONE:Europe/Berlin
BEGIN:VEVENT
UID:779@drtv.de
DTSTART;TZID=Europe/Berlin;VALUE=DATE:20160227
DTEND;TZID=Europe/Berlin;VALUE=DATE:20160228
DTSTAMP:20230713T183836Z
URL:https://drtv.de/events/1-buli-qualifikation-2016/
SUMMARY:1. Buli-Qualifikation 2016
DESCRIPTION:[prettyfilelink size="" src="https://www.drtv.de/wp-content/upl
 oads/2016/03/1.-Buli-Qualifikation-2016-am-27.02.2016-in-Mutterstadt.pdf" 
 type="pdf"]1. Buli-Qualifikation 2016 am 27.02.2016 in Mutterstadt[/pretty
 filelink]
CATEGORIES:Ergebnis Rasenkraftsport,Ergebnisdatei RDA liegt vor,Termin
 Rasenkraftsport
LOCATION:Mutterstadt\, Bohligstrasse 1\, Mutterstadt\, Rheinland-Pfalz\, 67
 112\, Deutschland
GEO:49.44486999999999;8.358339999999998
X-APPLE-STRUCTURED-LOCATION;VALUE=URI;X-ADDRESS=Bohligstrasse 1\, Muttersta
 dt\, Rheinland-Pfalz\, 67112\, Deutschland;X-APPLE-RADIUS=100;X-TITLE=Mutt
 erstadt:geo:49.44486999999999,8.358339999999998
END:VEVENT
BEGIN:VTIMEZONE
TZID:Europe/Berlin
X-LIC-LOCATION:Europe/Berlin
BEGIN:STANDARD
DTSTART:20151025T020000
TZOFFSETFROM:+0200
TZOFFSETTO:+0100
TZNAME:CET
END:STANDARD
END:VTIMEZONE
END:VCALENDAR