BEGIN:VCALENDAR
VERSION:2.0
PRODID:-//wp-events-plugin.com//7.2.3.1//EN
TZID:Europe/Berlin
X-WR-TIMEZONE:Europe/Berlin
BEGIN:VEVENT
UID:1081@drtv.de
DTSTART;TZID=Europe/Berlin;VALUE=DATE:20181028
DTEND;TZID=Europe/Berlin;VALUE=DATE:20181029
DTSTAMP:20230713T183642Z
URL:https://drtv.de/events/1-deutsche-indoor-tauzieh-meisterschaften/
SUMMARY:1. Deutsche Indoor-Tauzieh-Meisterschaften
DESCRIPTION:[prettyfilelink size="" src="https://www.drtv.de/wp-content/upl
 oads/2018/03/2018-DM-F410-Indoor.pdf" type="pdf"]2018-DM-F410-Indoor[/pret
 tyfilelink]\n\n&nbsp\;\n\n&nbsp\;
CATEGORIES:Ergebnis Tauziehen,Termin Tauziehen
END:VEVENT
BEGIN:VTIMEZONE
TZID:Europe/Berlin
X-LIC-LOCATION:Europe/Berlin
BEGIN:DAYLIGHT
DTSTART:20180325T030000
TZOFFSETFROM:+0100
TZOFFSETTO:+0200
TZNAME:CEST
END:DAYLIGHT
BEGIN:STANDARD
DTSTART:20181028T020000
TZOFFSETFROM:+0200
TZOFFSETTO:+0100
TZNAME:CET
END:STANDARD
END:VTIMEZONE
END:VCALENDAR