BEGIN:VCALENDAR
VERSION:2.0
PRODID:-//wp-events-plugin.com//7.2.3.1//EN
TZID:Europe/Berlin
X-WR-TIMEZONE:Europe/Berlin
BEGIN:VEVENT
UID:1283@drtv.de
DTSTART;TZID=Europe/Berlin:20190809T000000
DTEND;TZID=Europe/Berlin:20190810T000000
DTSTAMP:20230713T183505Z
URL:https://drtv.de/events/1-feriensportfest-in-langenbrand/
SUMMARY:1. Feriensportfest in Langenbrand - geändert
DESCRIPTION:[prettyfilelink size="" src="https://www.drtv.de/wp-content/upl
 oads/2019/07/1.-Feriensportfest_Ergebnisliste-Tag-2.pdf" type="pdf"]1. Fer
 iensportfest_Ergebnisliste Tag 2[/prettyfilelink]\n\n[prettyfilelink size=
 "" src="https://www.drtv.de/wp-content/uploads/2019/07/RKS_Ergebnisliste-0
 90819.pdf" type="pdf"]RKS_Ergebnisliste-090819[/prettyfilelink]\n\n[pretty
 filelink size="" src="https://www.drtv.de/wp-content/uploads/2019/07/Hamme
 r_Ergebnisliste.090819.pdf" type="pdf"]Hammer_Ergebnisliste.090819[/pretty
 filelink]\n\nNeue geänderte Ausschreibung\n\n[prettyfilelink size="" src=
 "https://www.drtv.de/wp-content/uploads/2019/07/Feriensportfest-2019-1-1.p
 df" type="pdf"]Feriensportfest -2019 1[/prettyfilelink]\n\n&nbsp\;
CATEGORIES:Ergebnis Rasenkraftsport,Ergebnisdatei RDA liegt vor,Termin
 Rasenkraftsport,Termin Rasenkraftsport + Ausschr.
LOCATION:Langenbrand\, Bahnhofstrasse 9\, Forbach-Langenbrand\, 76596\, Spo
 rtplatz Langenbrand\, Deutschland
GEO:48.703715;8.35600880000004
X-APPLE-STRUCTURED-LOCATION;VALUE=URI;X-ADDRESS=Bahnhofstrasse 9\, Forbach-
 Langenbrand\, 76596\, Sportplatz Langenbrand\, Deutschland;X-APPLE-RADIUS=
 100;X-TITLE=Langenbrand:geo:48.703715,8.35600880000004
END:VEVENT
BEGIN:VTIMEZONE
TZID:Europe/Berlin
X-LIC-LOCATION:Europe/Berlin
BEGIN:DAYLIGHT
DTSTART:20190331T030000
TZOFFSETFROM:+0100
TZOFFSETTO:+0200
TZNAME:CEST
END:DAYLIGHT
END:VTIMEZONE
END:VCALENDAR