BEGIN:VCALENDAR
VERSION:2.0
PRODID:-//wp-events-plugin.com//7.2.3.1//EN
TZID:Europe/Berlin
X-WR-TIMEZONE:Europe/Berlin
BEGIN:VEVENT
UID:1285@drtv.de
DTSTART;TZID=Europe/Berlin:20190802T000000
DTEND;TZID=Europe/Berlin:20190802T000000
DTSTAMP:20230713T183505Z
URL:https://drtv.de/events/1-moosacher-dreier-2019/
SUMMARY:1. Moosacher Dreier 2019
DESCRIPTION:[prettyfilelink size="" src="https://www.drtv.de/wp-content/upl
 oads/2019/07/1.-Moosacher-Dreier-2019.pdf" type="pdf"]1. Moosacher Dreier 
 2019[/prettyfilelink]
CATEGORIES:Termin Rasenkraftsport,Termin Rasenkraftsport + Ausschr.
LOCATION:Moosach\, Bahnhofstraße 10\, Moosach\, 85665\, Grafing\, Deutschl
 and
GEO:48.0313311;11.880948699999976
X-APPLE-STRUCTURED-LOCATION;VALUE=URI;X-ADDRESS=Bahnhofstraße 10\, Moosach
 \, 85665\, Grafing\, Deutschland;X-APPLE-RADIUS=100;X-TITLE=Moosach:geo:48
 .0313311,11.880948699999976
END:VEVENT
BEGIN:VTIMEZONE
TZID:Europe/Berlin
X-LIC-LOCATION:Europe/Berlin
BEGIN:DAYLIGHT
DTSTART:20190331T030000
TZOFFSETFROM:+0100
TZOFFSETTO:+0200
TZNAME:CEST
END:DAYLIGHT
END:VTIMEZONE
END:VCALENDAR