BEGIN:VCALENDAR
VERSION:2.0
PRODID:-//wp-events-plugin.com//7.2.3.1//EN
TZID:Europe/Berlin
X-WR-TIMEZONE:Europe/Berlin
BEGIN:VEVENT
UID:811@drtv.de
DTSTART;TZID=Europe/Berlin;VALUE=DATE:20160611
DTEND;TZID=Europe/Berlin;VALUE=DATE:20160612
DTSTAMP:20230713T183827Z
URL:https://drtv.de/events/1-rks-einladungswettkampf-2016-mit-hammerwurftu
 rnier-der-tsg-hassloch/
SUMMARY:1. RKS Einladungswettkampf 2016 mit Hammerwurfturnier der TSG Hassl
 och
DESCRIPTION:[prettyfilelink size="" src="https://www.drtv.de/wp-content/upl
 oads/2016/06/RKS-Hammerwurfturnier-Haßloch-11_06_2016_Ergebnisliste.pdf" 
 type="pdf"]RKS Hammerwurfturnier Haßloch 11_06_2016_Ergebnisliste[/pretty
 filelink][prettyfilelink size="" src="https://www.drtv.de/wp-content/uploa
 ds/2016/06/RKS-Dreikampf-Haßloch-11_06_2016_Ergebnisliste.pdf" type="pdf"
 ]RKS Dreikampf Haßloch 11_06_2016_Ergebnisliste[/prettyfilelink]\n\n[pret
 tyfilelink size="" src="https://www.drtv.de/wp-content/uploads/2016/06/Aus
 schreibung_11_06_2016_TSG_Hassloch.pdf" type="pdf"]Ausschreibung_11_06_201
 6_TSG_Hassloch[/prettyfilelink]
CATEGORIES:Ergebnis Rasenkraftsport,Ergebnisdatei RDA liegt vor,Termin
 Rasenkraftsport
LOCATION:Haßloch\, Ludwig-Gramlich-Straße 1\, Haßloch\, Rheinland-Pfalz\
 , 67454\, Bad Dürkheim\, Deutschland
GEO:49.34759;8.247650000000021
X-APPLE-STRUCTURED-LOCATION;VALUE=URI;X-ADDRESS=Ludwig-Gramlich-Straße 1\,
  Haßloch\, Rheinland-Pfalz\, 67454\, Bad Dürkheim\, Deutschland;X-APPLE-
 RADIUS=100;X-TITLE=Haßloch:geo:49.34759,8.247650000000021
END:VEVENT
BEGIN:VTIMEZONE
TZID:Europe/Berlin
X-LIC-LOCATION:Europe/Berlin
BEGIN:DAYLIGHT
DTSTART:20160327T030000
TZOFFSETFROM:+0100
TZOFFSETTO:+0200
TZNAME:CEST
END:DAYLIGHT
END:VTIMEZONE
END:VCALENDAR