BEGIN:VCALENDAR
VERSION:2.0
PRODID:-//wp-events-plugin.com//7.2.3.1//EN
TZID:Europe/Berlin
X-WR-TIMEZONE:Europe/Berlin
BEGIN:VEVENT
UID:919@drtv.de
DTSTART;TZID=Europe/Berlin:20170211T000000
DTEND;TZID=Europe/Berlin:20170211T000000
DTSTAMP:20230713T183743Z
URL:https://drtv.de/events/1-werfertag-2017-rks-phoenix-mutterstadt-11-02-
 2017/
SUMMARY:1. Werfertag 2017 RKS Phoenix Mutterstadt 11.02.2017
DESCRIPTION:[prettyfilelink size="" src="https://www.drtv.de/wp-content/upl
 oads/2017/03/1.-Werfertag-2017-RKS-Phoenix-Mutterstadt-11.02.2017_Ergebnis
 liste-Kurzform.pdf" type="pdf"]1. Werfertag 2017 RKS Phoenix Mutterstadt 1
 1.02.2017_Ergebnisliste (Kurzform)[/prettyfilelink]
CATEGORIES:Ergebnis Rasenkraftsport,Ergebnisdatei RDA liegt vor,Termin
 Rasenkraftsport
LOCATION:Mutterstadt\, Bohligstrasse 1\, Mutterstadt\, Rheinland-Pfalz\, 67
 112\, Deutschland
GEO:49.44486999999999;8.358339999999998
X-APPLE-STRUCTURED-LOCATION;VALUE=URI;X-ADDRESS=Bohligstrasse 1\, Muttersta
 dt\, Rheinland-Pfalz\, 67112\, Deutschland;X-APPLE-RADIUS=100;X-TITLE=Mutt
 erstadt:geo:49.44486999999999,8.358339999999998
END:VEVENT
BEGIN:VTIMEZONE
TZID:Europe/Berlin
X-LIC-LOCATION:Europe/Berlin
BEGIN:STANDARD
DTSTART:20161030T020000
TZOFFSETFROM:+0200
TZOFFSETTO:+0100
TZNAME:CET
END:STANDARD
END:VTIMEZONE
END:VCALENDAR