BEGIN:VCALENDAR
VERSION:2.0
PRODID:-//wp-events-plugin.com//7.2.3.1//EN
TZID:Europe/Berlin
X-WR-TIMEZONE:Europe/Berlin
BEGIN:VEVENT
UID:856@drtv.de
DTSTART;TZID=Europe/Berlin;VALUE=DATE:20170521
DTEND;TZID=Europe/Berlin;VALUE=DATE:20170522
DTSTAMP:20230713T183756Z
URL:https://drtv.de/events/1-wettkampftag-600-kg-maenner-in-wieden/
SUMMARY:1. Wettkampftag 600 kg Männer in Wieden
DESCRIPTION:Ergebnis:\n\n[prettyfilelink size="" src="https://www.drtv.de/w
 p-content/uploads/2016/11/1.-WK-600-kg-DM-Wieden.pdf" type="pdf"]1. WK 600
  kg DM Wieden[/prettyfilelink]\n\nDie Ausschreibung und Meldung gilt für 
 alle 3 Meisterschaftsturniere!!!!\n\n[prettyfilelink size="" src="https://
 www.drtv.de/wp-content/uploads/2016/11/DM-600-kg-2017.pdf" type="pdf"]Auss
 chreibung DM 600 kg - 2017[/prettyfilelink]\n\n[prettyfilelink size="" src
 ="https://www.drtv.de/wp-content/uploads/2016/11/Meldeformular-DM-600-2017
 .docx" type="doc"]Meldeformular - DM 600 2017[/prettyfilelink]
CATEGORIES:Ergebnis Tauziehen,Termin Tauziehen
LOCATION:Wieden\, Niedermatt 50\,\, Wieden - Melanie-Behringer-Stadion\, S
 üdbaden\, 79695\, Deutschland
GEO:47.8438328;7.89356870000006
X-APPLE-STRUCTURED-LOCATION;VALUE=URI;X-ADDRESS=Niedermatt 50\,\, Wieden - 
 Melanie-Behringer-Stadion\, Südbaden\, 79695\, Deutschland;X-APPLE-RADIUS
 =100;X-TITLE=Wieden:geo:47.8438328,7.89356870000006
END:VEVENT
BEGIN:VTIMEZONE
TZID:Europe/Berlin
X-LIC-LOCATION:Europe/Berlin
BEGIN:DAYLIGHT
DTSTART:20170326T030000
TZOFFSETFROM:+0100
TZOFFSETTO:+0200
TZNAME:CEST
END:DAYLIGHT
END:VTIMEZONE
END:VCALENDAR