BEGIN:VCALENDAR
VERSION:2.0
PRODID:-//wp-events-plugin.com//7.2.3.1//EN
TZID:Europe/Berlin
X-WR-TIMEZONE:Europe/Berlin
BEGIN:VEVENT
UID:1106@drtv.de
DTSTART;TZID=Europe/Berlin:20181209T000000
DTEND;TZID=Europe/Berlin:20181209T000000
DTSTAMP:20230713T183637Z
URL:https://drtv.de/events/11-maselheimer-adventsturnier/
SUMMARY:11. Maselheimer Adventsturnier
DESCRIPTION:[prettyfilelink size="" src="https://www.drtv.de/wp-content/upl
 oads/2018/06/11.Adventsturnier_Ergebnisliste-Kurzform.pdf" type="pdf"]11.A
 dventsturnier_Ergebnisliste (Kurzform)[/prettyfilelink]\n\n&nbsp\;\n\n[pre
 ttyfilelink size="" src="https://www.drtv.de/wp-content/uploads/2018/06/Au
 sschreibung-11.-ADVENTSTURNIER-09.12.18-1.pdf" type="pdf"]Ausschreibung-11
 .-ADVENTSTURNIER-09.12.18-1[/prettyfilelink]\n\n[prettyfilelink size="" sr
 c="https://www.drtv.de/wp-content/uploads/2018/06/Ausschreibung-11.-ADVENT
 STURNIER-09.12.18.pdf" type="pdf"]Ausschreibung-11.-ADVENTSTURNIER-09.12.1
 8[/prettyfilelink]
CATEGORIES:Ergebnis Rasenkraftsport,Ergebnisdatei RDA liegt vor,Termin
 Rasenkraftsport
LOCATION:Maselheim\, Wennedacher Str. 5\, Maselheim\, Württemberg\, 88437\
 , Oberschwaben\, Deutschland
GEO:48.133212;9.885989
X-APPLE-STRUCTURED-LOCATION;VALUE=URI;X-ADDRESS=Wennedacher Str. 5\, Maselh
 eim\, Württemberg\, 88437\, Oberschwaben\, Deutschland;X-APPLE-RADIUS=100
 ;X-TITLE=Maselheim:geo:48.133212,9.885989
END:VEVENT
BEGIN:VTIMEZONE
TZID:Europe/Berlin
X-LIC-LOCATION:Europe/Berlin
BEGIN:STANDARD
DTSTART:20181028T020000
TZOFFSETFROM:+0200
TZOFFSETTO:+0100
TZNAME:CET
END:STANDARD
END:VTIMEZONE
END:VCALENDAR