BEGIN:VCALENDAR
VERSION:2.0
PRODID:-//wp-events-plugin.com//7.2.3.1//EN
TZID:Europe/Berlin
X-WR-TIMEZONE:Europe/Berlin
BEGIN:VEVENT
UID:1578@drtv.de
DTSTART;TZID=Europe/Berlin:20220521T000000
DTEND;TZID=Europe/Berlin:20220521T000000
DTSTAMP:20230713T183152Z
URL:https://drtv.de/events/12345/
SUMMARY:Ausschreibung Werfertag
DESCRIPTION:[prettyfilelink size="" src="https://www.drtv.de/wp-content/upl
 oads/2022/05/21.05.2022-WT-RKS-in-Bebra-Gilfershausen-Ausschreibung.pdf" t
 ype="pdf"]21.05.2022-WT-RKS-in-Bebra-Gilfershausen-Ausschreibung[/prettyfi
 lelink]\n\n&nbsp\;\n\n[prettyfilelink size="" src="https://www.drtv.de/wp-
 content/uploads/2022/05/Ergebisse-WT-Bebra-21.05.2022.pdf" type="pdf"]Erge
 bisse WT Bebra 21.05.2022[/prettyfilelink]
CATEGORIES:Ergebnis Rasenkraftsport,Ergebnisdatei RDA liegt vor,Termin
 Rasenkraftsport,Termin Rasenkraftsport + Ausschr.
LOCATION:Bebra/Gilfershausen\, In den Dellen 26\, Bebra-Gilfershausen\, Hes
 sen\, 36179\, Sportpark\, Deutschland
GEO:50.98554;9.829799999999977
X-APPLE-STRUCTURED-LOCATION;VALUE=URI;X-ADDRESS=In den Dellen 26\, Bebra-Gi
 lfershausen\, Hessen\, 36179\, Sportpark\, Deutschland;X-APPLE-RADIUS=100;
 X-TITLE=Bebra/Gilfershausen:geo:50.98554,9.829799999999977
END:VEVENT
BEGIN:VTIMEZONE
TZID:Europe/Berlin
X-LIC-LOCATION:Europe/Berlin
BEGIN:DAYLIGHT
DTSTART:20220327T030000
TZOFFSETFROM:+0100
TZOFFSETTO:+0200
TZNAME:CEST
END:DAYLIGHT
END:VTIMEZONE
END:VCALENDAR