BEGIN:VCALENDAR
VERSION:2.0
PRODID:-//wp-events-plugin.com//7.2.3.1//EN
TZID:Europe/Berlin
X-WR-TIMEZONE:Europe/Berlin
BEGIN:VEVENT
UID:1644@drtv.de
DTSTART;TZID=Europe/Berlin:20230402T000000
DTEND;TZID=Europe/Berlin:20230402T000000
DTSTAMP:20230713T183139Z
URL:https://drtv.de/events/13075/
SUMMARY:Landesmeisterschaften Rasenkraftsport
DESCRIPTION:[prettyfilelink size="" src="https://www.drtv.de/wp-content/upl
 oads/2023/01/AusschreibungZeitplan-02.04.23-MU.pdf" type="pdf"]Ausschreibu
 ng+Zeitplan-02.04.23-MU[/prettyfilelink]\n\n&nbsp\;\n\n[prettyfilelink siz
 e="" src="https://www.drtv.de/wp-content/uploads/2023/01/20230402-Rhld.-Pf
 alz-Mstr.-Sen-und-Buli.pdf" type="pdf"]20230402 Rhld.-Pfalz-Mstr. Sen und 
 Buli[/prettyfilelink]\n\n[prettyfilelink size="" src="https://www.drtv.de/
 wp-content/uploads/2023/01/20230402-Buli-Qualifikation-Frauen-und-Maenner.
 pdf" type="pdf"]20230402 Buli-Qualifikation Frauen und Männer[/prettyfile
 link]
CATEGORIES:Ergebnis Rasenkraftsport,Ergebnisdatei RDA liegt vor,Termin
 Rasenkraftsport,Termin Rasenkraftsport + Ausschr.
LOCATION:Mutterstadt Sportpark\, Waldstraße 49\, Mutterstadt\, Rheinland-P
 falz\, 67112\, Deutschland
GEO:49.423419;8.367577799999935
X-APPLE-STRUCTURED-LOCATION;VALUE=URI;X-ADDRESS=Waldstraße 49\, Mutterstad
 t\, Rheinland-Pfalz\, 67112\, Deutschland;X-APPLE-RADIUS=100;X-TITLE=Mutte
 rstadt Sportpark:geo:49.423419,8.367577799999935
END:VEVENT
BEGIN:VTIMEZONE
TZID:Europe/Berlin
X-LIC-LOCATION:Europe/Berlin
BEGIN:DAYLIGHT
DTSTART:20230326T030000
TZOFFSETFROM:+0100
TZOFFSETTO:+0200
TZNAME:CEST
END:DAYLIGHT
END:VTIMEZONE
END:VCALENDAR