BEGIN:VCALENDAR
VERSION:2.0
PRODID:-//wp-events-plugin.com//7.2.3.1//EN
TZID:Europe/Berlin
X-WR-TIMEZONE:Europe/Berlin
BEGIN:VEVENT
UID:509@drtv.de
DTSTART;TZID=Europe/Berlin:20141018T153000
DTEND;TZID=Europe/Berlin:20141018T153000
DTSTAMP:20230713T184005Z
URL:https://drtv.de/events/2-herbstwerfernachmittag/
SUMMARY:2. Herbstwerfernachmittag
DESCRIPTION:[prettyfilelink size="" src="https://www.drtv.de/wp-content/upl
 oads/2014/10/Werfernachmittag-18_10_14_Ergebnisliste-Kurzform.html" type="
 htm"]Ergebnisse Herbstwerfertag 2 2014[/prettyfilelink][prettyfilelink siz
 e="" src="https://www.drtv.de/wp-content/uploads/2014/10/Herbstwerfertag-2
 -2014.pdf" type="pdf"]Herbstwerfertag 2 2014[/prettyfilelink]
CATEGORIES:Ergebnis Rasenkraftsport,Ergebnisdatei RDA liegt vor,Termin
 Rasenkraftsport
LOCATION:Ludwigsburg-Oßweil\, Walter-Flex-Str. 75\, Ludwigsburg-Oßweil\, 
 71640\, Deutschland
GEO:48.8968828;9.228563399999984
X-APPLE-STRUCTURED-LOCATION;VALUE=URI;X-ADDRESS=Walter-Flex-Str. 75\, Ludwi
 gsburg-Oßweil\, 71640\, Deutschland;X-APPLE-RADIUS=100;X-TITLE=Ludwigsbur
 g-Oßweil:geo:48.8968828,9.228563399999984
END:VEVENT
BEGIN:VTIMEZONE
TZID:Europe/Berlin
X-LIC-LOCATION:Europe/Berlin
BEGIN:DAYLIGHT
DTSTART:20140330T030000
TZOFFSETFROM:+0100
TZOFFSETTO:+0200
TZNAME:CEST
END:DAYLIGHT
END:VTIMEZONE
END:VCALENDAR