BEGIN:VCALENDAR
VERSION:2.0
PRODID:-//wp-events-plugin.com//7.2.3.1//EN
TZID:Europe/Berlin
X-WR-TIMEZONE:Europe/Berlin
BEGIN:VEVENT
UID:767@drtv.de
DTSTART;TZID=Europe/Berlin;VALUE=DATE:20160403
DTEND;TZID=Europe/Berlin;VALUE=DATE:20160404
DTSTAMP:20230713T183837Z
URL:https://drtv.de/events/2-nordhessischer-werfertag-in-bebra-ot-gilfersh
 ausen/
SUMMARY:2. Nordhessischer Werfertag in Bebra\, OT Gilfershausen
DESCRIPTION:[prettyfilelink size="" src="https://www.drtv.de/wp-content/upl
 oads/2016/02/2016-04-03-TC_Ergebnisliste.pdf" type="pdf"]2016-04-03-TC_Erg
 ebnisliste[/prettyfilelink]\n\n[prettyfilelink size="" src="https://www.dr
 tv.de/wp-content/uploads/2016/02/03.04.2016-NH-WT-in-Bebra-Ausschreibung.p
 df" type="pdf"]03.04.20NH - WT in Bebra Ausschreibung[/prettyfilelink]
CATEGORIES:Ergebnis Rasenkraftsport,Ergebnisdatei RDA liegt vor,Termin
 Rasenkraftsport
LOCATION:Bebra/Gilfershausen\, In den Dellen 26\, Bebra-Gilfershausen\, Hes
 sen\, 36179\, Sportpark\, Deutschland
GEO:50.98554;9.829799999999977
X-APPLE-STRUCTURED-LOCATION;VALUE=URI;X-ADDRESS=In den Dellen 26\, Bebra-Gi
 lfershausen\, Hessen\, 36179\, Sportpark\, Deutschland;X-APPLE-RADIUS=100;
 X-TITLE=Bebra/Gilfershausen:geo:50.98554,9.829799999999977
END:VEVENT
BEGIN:VTIMEZONE
TZID:Europe/Berlin
X-LIC-LOCATION:Europe/Berlin
BEGIN:DAYLIGHT
DTSTART:20160327T030000
TZOFFSETFROM:+0100
TZOFFSETTO:+0200
TZNAME:CEST
END:DAYLIGHT
END:VTIMEZONE
END:VCALENDAR