BEGIN:VCALENDAR
VERSION:2.0
PRODID:-//wp-events-plugin.com//7.2.3.1//EN
TZID:Europe/Berlin
X-WR-TIMEZONE:Europe/Berlin
BEGIN:VEVENT
UID:1146@drtv.de
DTSTART;TZID=Europe/Berlin:20190112T093000
DTEND;TZID=Europe/Berlin:20190112T180000
DTSTAMP:20230713T183613Z
URL:https://drtv.de/events/2-uebungsleiterausbildung-im-drtv-modul-1b/
SUMMARY:2. Übungsleiterausbildung im DRTV - Modul 1A und 1B
DESCRIPTION:Modul 1 (Wochenendlehrgang) 12.01.19 09:30-18:00 Uhr und 13.01
 .19 / Sportschule Oberhaching\n\nModul 3A (Wochenende) 08.-10.03.2019 / Wa
 iblingen\n\nModul 3B (Wochenende ) 05.-07.04.2019 / Oßweil\n\nRückfragen
  bitte an Betina Gabler Betina.gabler@mnet-online.de direkt stellen
CATEGORIES:Termin Rasenkraftsport
LOCATION:Sportschule Oberhaching\, Im Loh 2\, Oberhaching\, Bayern\, 82041\
 , Deutschland
GEO:48.0362;11.590750000000071
X-APPLE-STRUCTURED-LOCATION;VALUE=URI;X-ADDRESS=Im Loh 2\, Oberhaching\, Ba
 yern\, 82041\, Deutschland;X-APPLE-RADIUS=100;X-TITLE=Sportschule Oberhach
 ing:geo:48.0362,11.590750000000071
END:VEVENT
BEGIN:VTIMEZONE
TZID:Europe/Berlin
X-LIC-LOCATION:Europe/Berlin
BEGIN:STANDARD
DTSTART:20181028T020000
TZOFFSETFROM:+0200
TZOFFSETTO:+0100
TZNAME:CET
END:STANDARD
END:VTIMEZONE
END:VCALENDAR