BEGIN:VCALENDAR
VERSION:2.0
PRODID:-//wp-events-plugin.com//7.2.3.1//EN
TZID:Europe/Berlin
X-WR-TIMEZONE:Europe/Berlin
BEGIN:VEVENT
UID:1147@drtv.de
DTSTART;TZID=Europe/Berlin:20190308T000000
DTEND;TZID=Europe/Berlin:20190310T000000
DTSTAMP:20230713T183614Z
URL:https://drtv.de/events/2-uebungsleiterausbildung-im-drtv-modul-3a/
SUMMARY:2. Übungsleiterausbildung im DRTV - Modul 3A - RKS
DESCRIPTION:Rückfragen bitte an Betina Gabler Betina.gabler@mnet-online.de
  direkt stellen
CATEGORIES:Termin Rasenkraftsport
LOCATION:Waiblingen\, Oberer Ring 1\, Waiblingen\, 71332\, VfL Stadion und 
 Wurfanlage\, Deutschland
GEO:48.8249771;9.328668500000048
X-APPLE-STRUCTURED-LOCATION;VALUE=URI;X-ADDRESS=Oberer Ring 1\, Waiblingen\
 , 71332\, VfL Stadion und Wurfanlage\, Deutschland;X-APPLE-RADIUS=100;X-TI
 TLE=Waiblingen:geo:48.8249771,9.328668500000048
END:VEVENT
BEGIN:VTIMEZONE
TZID:Europe/Berlin
X-LIC-LOCATION:Europe/Berlin
BEGIN:STANDARD
DTSTART:20181028T020000
TZOFFSETFROM:+0200
TZOFFSETTO:+0100
TZNAME:CET
END:STANDARD
END:VTIMEZONE
END:VCALENDAR