BEGIN:VCALENDAR
VERSION:2.0
PRODID:-//wp-events-plugin.com//7.2.3.1//EN
TZID:Europe/Berlin
X-WR-TIMEZONE:Europe/Berlin
BEGIN:VEVENT
UID:858@drtv.de
DTSTART;TZID=Europe/Berlin;VALUE=DATE:20170618
DTEND;TZID=Europe/Berlin;VALUE=DATE:20170619
DTSTAMP:20230713T183756Z
URL:https://drtv.de/events/2-wk-bundesliga-in-zell/
SUMMARY:2.WK Bundesliga in Zell
DESCRIPTION:[prettyfilelink size="" src="https://www.drtv.de/wp-content/upl
 oads/2016/11/Egebnis-BL-Zell.pdf" type="pdf"]Egebnis BL Zell[/prettyfileli
 nk]
CATEGORIES:Ergebnis Tauziehen,Termin Tauziehen
LOCATION:Zell\, Wiesenweg\, Bad Grönenbach – Zell\, Bayern\, 87730\, Deu
 tschland
GEO:47.90072;10.204889999999977
X-APPLE-STRUCTURED-LOCATION;VALUE=URI;X-ADDRESS=Wiesenweg\, Bad Grönenbach
  – Zell\, Bayern\, 87730\, Deutschland;X-APPLE-RADIUS=100;X-TITLE=Zell:g
 eo:47.90072,10.204889999999977
END:VEVENT
BEGIN:VTIMEZONE
TZID:Europe/Berlin
X-LIC-LOCATION:Europe/Berlin
BEGIN:DAYLIGHT
DTSTART:20170326T030000
TZOFFSETFROM:+0100
TZOFFSETTO:+0200
TZNAME:CEST
END:DAYLIGHT
END:VTIMEZONE
END:VCALENDAR