BEGIN:VCALENDAR
VERSION:2.0
PRODID:-//wp-events-plugin.com//7.2.3.1//EN
TZID:Europe/Berlin
X-WR-TIMEZONE:Europe/Berlin
BEGIN:VEVENT
UID:49@drtv.de
DTSTART;TZID=Europe/Berlin:20120520T000000
DTEND;TZID=Europe/Berlin:20120520T000000
DTSTAMP:20230713T184244Z
URL:https://drtv.de/events/2-wk-bundesliga-m640/
SUMMARY:2. WK Bundesliga M640
DESCRIPTION:[prettyfilelink src="https://www.drtv.de/wp-content/uploads/201
 2/04/DRTV_BL_2012_2WK.pdf" type="pdf"]Ergebnisse gesamt[/prettyfilelink][p
 rettyfilelink src="https://www.drtv.de/wp-content/uploads/2012/04/2.WK-Tag
 -BL-Laudenbach.pdf" type="pdf"]Ergebnisse Turnierliste[/prettyfilelink]
CATEGORIES:Ergebnis Tauziehen,Termin Tauziehen
LOCATION:Laudenbach\, Dr. Werner Freyberg Str.5\, Laudenbach\, Nordbaden\, 
 69514\, Deutschland
GEO:49.61138;8.640149999999948
X-APPLE-STRUCTURED-LOCATION;VALUE=URI;X-ADDRESS=Dr. Werner Freyberg Str.5\,
  Laudenbach\, Nordbaden\, 69514\, Deutschland;X-APPLE-RADIUS=100;X-TITLE=L
 audenbach:geo:49.61138,8.640149999999948
END:VEVENT
BEGIN:VTIMEZONE
TZID:Europe/Berlin
X-LIC-LOCATION:Europe/Berlin
BEGIN:DAYLIGHT
DTSTART:20120325T030000
TZOFFSETFROM:+0100
TZOFFSETTO:+0200
TZNAME:CEST
END:DAYLIGHT
END:VTIMEZONE
END:VCALENDAR