BEGIN:VCALENDAR
VERSION:2.0
PRODID:-//wp-events-plugin.com//7.2.3.1//EN
TZID:Europe/Berlin
X-WR-TIMEZONE:Europe/Berlin
BEGIN:VEVENT
UID:857@drtv.de
DTSTART;TZID=Europe/Berlin;VALUE=DATE:20170611
DTEND;TZID=Europe/Berlin;VALUE=DATE:20170612
DTSTAMP:20230713T183754Z
URL:https://drtv.de/events/2-wk-maenner-600-kg-in-neu-isenburg/
SUMMARY:2. WK Männer 600 kg in Neu-Isenburg
DESCRIPTION:Ergebnisse:\n\n[prettyfilelink size="" src="https://www.drtv.de
 /wp-content/uploads/2016/11/2017-DM600-2WK-Neu-Isenburg.pdf" type="pdf"]20
 17-DM600-2WK-Neu-Isenburg[/prettyfilelink]\n\nSiehe Ausschreibung zum 1. W
 K-Tag in Wieden.\n\nAnfahrtsbeschreibung:\n\n[prettyfilelink size="" src="
 https://www.drtv.de/wp-content/uploads/2016/11/Besucheranfahrt-Sportpark.d
 oc" type="doc"]Besucheranfahrt Sportpark[/prettyfilelink]
CATEGORIES:Ergebnis Tauziehen,Termin Tauziehen
LOCATION:Neu-Isenburg\, Kurt-Schumacher Straße 11\, Neu-Isenburg\, 63263\,
  Sportpark Eingang Kurt Schumacher Str. 11\, Deutschland
GEO:50.0512587;8.669543200000021
X-APPLE-STRUCTURED-LOCATION;VALUE=URI;X-ADDRESS=Kurt-Schumacher Straße 11\
 , Neu-Isenburg\, 63263\, Sportpark Eingang Kurt Schumacher Str. 11\, Deuts
 chland;X-APPLE-RADIUS=100;X-TITLE=Neu-Isenburg:geo:50.0512587,8.6695432000
 00021
END:VEVENT
BEGIN:VTIMEZONE
TZID:Europe/Berlin
X-LIC-LOCATION:Europe/Berlin
BEGIN:DAYLIGHT
DTSTART:20170326T030000
TZOFFSETFROM:+0100
TZOFFSETTO:+0200
TZNAME:CEST
END:DAYLIGHT
END:VTIMEZONE
END:VCALENDAR