BEGIN:VCALENDAR
VERSION:2.0
PRODID:-//wp-events-plugin.com//7.2.3.1//EN
TZID:Europe/Berlin
X-WR-TIMEZONE:Europe/Berlin
BEGIN:VEVENT
UID:47@drtv.de
DTSTART;TZID=Europe/Berlin;VALUE=DATE:20120513
DTEND;TZID=Europe/Berlin;VALUE=DATE:20120514
DTSTAMP:20230713T184243Z
URL:https://drtv.de/events/2-wk-srtv-jugliga-2-wk-srtv-landesliga/
SUMMARY:2.WK SRTV JugLiga + 2 WK SRTV Landesliga
DESCRIPTION:[prettyfilelink src="https://www.drtv.de/wp-content/uploads/201
 2/04/SRTV_LL_2012_2WK_Ergebnisdienst.pdf" type="pdf"]SRTV_LL_2012_2WK_Erge
 bnisdienst[/prettyfilelink][prettyfilelink src="https://www.drtv.de/wp-con
 tent/uploads/2012/04/SRTV_JL_2012_2WK_Ergebnisdienst.pdf" type="pdf"]SRTV_
 JL_2012_2WK_Ergebnisdienst[/prettyfilelink]
CATEGORIES:Ergebnis Tauziehen,Termin Tauziehen
LOCATION:Simonswald\, Sportplatzweg\, Simonswald\, Südbaden\, 79263\, Deut
 schland
GEO:48.09395989999999;8.092868700000053
X-APPLE-STRUCTURED-LOCATION;VALUE=URI;X-ADDRESS=Sportplatzweg\, Simonswald\
 , Südbaden\, 79263\, Deutschland;X-APPLE-RADIUS=100;X-TITLE=Simonswald:ge
 o:48.09395989999999,8.092868700000053
END:VEVENT
BEGIN:VTIMEZONE
TZID:Europe/Berlin
X-LIC-LOCATION:Europe/Berlin
BEGIN:DAYLIGHT
DTSTART:20120325T030000
TZOFFSETFROM:+0100
TZOFFSETTO:+0200
TZNAME:CEST
END:DAYLIGHT
END:VTIMEZONE
END:VCALENDAR