BEGIN:VCALENDAR
VERSION:2.0
PRODID:-//wp-events-plugin.com//7.2.3.1//EN
TZID:Europe/Berlin
X-WR-TIMEZONE:Europe/Berlin
BEGIN:VEVENT
UID:141@drtv.de
DTSTART;TZID=Europe/Berlin:20121208T130000
DTEND;TZID=Europe/Berlin:20121208T160000
DTSTAMP:20230713T184208Z
URL:https://drtv.de/events/3-adventswerfen-des-tv-1848-edenkoben/
SUMMARY:3. Adventswerfen des TV 1848 Edenkoben
DESCRIPTION:[prettyfilelink src="https://www.drtv.de/wp-content/uploads/201
 2/10/Ergebnisliste_Dreikampf_08_12_2012_Flemlingen.pdf" type="pdf"]Ergebni
 sliste_Dreikampf_08_12_2012_Flemlingen[/prettyfilelink][prettyfilelink src
 ="https://www.drtv.de/wp-content/uploads/2012/10/Ergebnisliste_Hammerwurft
 urnier_08_12_2012_Flemlingen.pdf" type="pdf"]Ergebnisliste_Hammerwurfturni
 er_08_12_2012_Flemlingen[/prettyfilelink][prettyfilelink src="https://www.
 drtv.de/wp-content/uploads/2012/10/Ergebnisliste_Gewichtswurfturnier_08_12
 _2012_Flemlingen.pdf" type="pdf"]Ergebnisliste_Gewichtswurfturnier_08_12_2
 012_Flemlingen[/prettyfilelink][prettyfilelink src="https://www.drtv.de/wp
 -content/uploads/2012/10/Ausschreibung_08_12_2012_TV_Edenkoben.pdf" type="
 pdf"]Ausschreibung_08_12_2012_TV_Edenkoben[/prettyfilelink]
CATEGORIES:Ergebnis Rasenkraftsport,Termin Rasenkraftsport
LOCATION:Flemlingen Wurfplatz\, '+49° 14' 46.71"\, +8° 6' 3.17" (49.24630
 7\, 8.100880)\, Flemlingen\, 76835\, Deutschland
GEO:49.24641622186635;8.10066319475095
X-APPLE-STRUCTURED-LOCATION;VALUE=URI;X-ADDRESS='+49° 14' 46.71\"\, +8° 6
 ' 3.17\" (49.246307\, 8.100880)\, Flemlingen\, 76835\, Deutschland;X-APPLE
 -RADIUS=100;X-TITLE=Flemlingen Wurfplatz:geo:49.24641622186635,8.100663194
 75095
END:VEVENT
BEGIN:VTIMEZONE
TZID:Europe/Berlin
X-LIC-LOCATION:Europe/Berlin
BEGIN:STANDARD
DTSTART:20121028T020000
TZOFFSETFROM:+0200
TZOFFSETTO:+0100
TZNAME:CET
END:STANDARD
END:VTIMEZONE
END:VCALENDAR