BEGIN:VCALENDAR
VERSION:2.0
PRODID:-//wp-events-plugin.com//7.2.3.1//EN
TZID:Europe/Berlin
X-WR-TIMEZONE:Europe/Berlin
BEGIN:VEVENT
UID:1816@drtv.de
DTSTART;TZID=Europe/Berlin;VALUE=DATE:20250614
DTEND;TZID=Europe/Berlin;VALUE=DATE:20250615
DTSTAMP:20250114T085424Z
URL:https://drtv.de/events/3-uerdinger-highland-games/
SUMMARY:3. Uerdinger Highland Games
DESCRIPTION:\n\n\nOrt:\nKrefeld-Uerdingen\n\n\nDatum:\n14.06.2025\n\n\nAuss
 chreibung:\nAusschreibung-Uerdingen\n\n\nVeranstalterseite:\nUerdinger Hig
 hlandgames\n\n\nErgebnisse:\n\n\n\nInfos:\nUerdinger Highlandgames\nAnmeld
 ung\n\n\nKlassen:\nTeam-Wettkampf\n\n\n\n&nbsp\;
CATEGORIES:Ergebnis Highland Games,Termin Highland Games
LOCATION:Uerdingen\, Uerdinger Stadtpark\, Nikolaus-Groß-Str. 4\, Krefeld\
 , NRW\, 47829\, Niederrhein\, Deutschland
X-APPLE-STRUCTURED-LOCATION;VALUE=URI;X-ADDRESS=Uerdinger Stadtpark\, Nikol
 aus-Groß-Str. 4\, Krefeld\, NRW\, 47829\, Niederrhein\, Deutschland;X-APP
 LE-RADIUS=100;X-TITLE=Uerdingen:geo:0,0
END:VEVENT
BEGIN:VTIMEZONE
TZID:Europe/Berlin
X-LIC-LOCATION:Europe/Berlin
BEGIN:DAYLIGHT
DTSTART:20250330T030000
TZOFFSETFROM:+0100
TZOFFSETTO:+0200
TZNAME:CEST
END:DAYLIGHT
END:VTIMEZONE
END:VCALENDAR