BEGIN:VCALENDAR
VERSION:2.0
PRODID:-//wp-events-plugin.com//7.2.3.1//EN
TZID:Europe/Berlin
X-WR-TIMEZONE:Europe/Berlin
BEGIN:VEVENT
UID:780@drtv.de
DTSTART;TZID=Europe/Berlin;VALUE=DATE:20160227
DTEND;TZID=Europe/Berlin;VALUE=DATE:20160228
DTSTAMP:20230713T183835Z
URL:https://drtv.de/events/3-werfertag-2016-phoenix-mutterstadt/
SUMMARY:3. Werfertag 2016 Phoenix Mutterstadt
DESCRIPTION:3. Werfertag 2016 RKS Mutterstadt 27.02.2016_Ergebnisliste (Kur
 zform)
CATEGORIES:Ergebnis Rasenkraftsport,Ergebnisdatei RDA liegt vor,Termin
 Rasenkraftsport
LOCATION:Mutterstadt\, Bohligstrasse 1\, Mutterstadt\, Rheinland-Pfalz\, 67
 112\, Deutschland
GEO:49.44486999999999;8.358339999999998
X-APPLE-STRUCTURED-LOCATION;VALUE=URI;X-ADDRESS=Bohligstrasse 1\, Muttersta
 dt\, Rheinland-Pfalz\, 67112\, Deutschland;X-APPLE-RADIUS=100;X-TITLE=Mutt
 erstadt:geo:49.44486999999999,8.358339999999998
END:VEVENT
BEGIN:VTIMEZONE
TZID:Europe/Berlin
X-LIC-LOCATION:Europe/Berlin
BEGIN:STANDARD
DTSTART:20151025T020000
TZOFFSETFROM:+0200
TZOFFSETTO:+0100
TZNAME:CET
END:STANDARD
END:VTIMEZONE
END:VCALENDAR