BEGIN:VCALENDAR
VERSION:2.0
PRODID:-//wp-events-plugin.com//7.2.3.1//EN
TZID:Europe/Berlin
X-WR-TIMEZONE:Europe/Berlin
BEGIN:VEVENT
UID:860@drtv.de
DTSTART;TZID=Europe/Berlin;VALUE=DATE:20170702
DTEND;TZID=Europe/Berlin;VALUE=DATE:20170703
DTSTAMP:20230713T183756Z
URL:https://drtv.de/events/3-wk-bundesliga-in-simonswald/
SUMMARY:3. WK Bundesliga in Simonswald
DESCRIPTION:[prettyfilelink size="" src="https://www.drtv.de/wp-content/upl
 oads/2016/11/2017-BL-3WK_Simonswald_Turnierliste.pdf" type="pdf"]2017-BL-3
 WK_Simonswald_Turnierliste[/prettyfilelink]\n\nNEUER Wettkampfplatz\n\n[pr
 ettyfilelink size="" src="https://www.drtv.de/wp-content/uploads/2016/11/W
 egbeschreibung2.jpg" type="img"]Wegbeschreibung2[/prettyfilelink]\n\n&nbsp
 \;
CATEGORIES:Ergebnis Tauziehen,Termin Tauziehen
LOCATION:Simonswald\, Sportplatzweg\, Simonswald\, Südbaden\, 79263\, Deut
 schland
GEO:48.09395989999999;8.092868700000053
X-APPLE-STRUCTURED-LOCATION;VALUE=URI;X-ADDRESS=Sportplatzweg\, Simonswald\
 , Südbaden\, 79263\, Deutschland;X-APPLE-RADIUS=100;X-TITLE=Simonswald:ge
 o:48.09395989999999,8.092868700000053
END:VEVENT
BEGIN:VTIMEZONE
TZID:Europe/Berlin
X-LIC-LOCATION:Europe/Berlin
BEGIN:DAYLIGHT
DTSTART:20170326T030000
TZOFFSETFROM:+0100
TZOFFSETTO:+0200
TZNAME:CEST
END:DAYLIGHT
END:VTIMEZONE
END:VCALENDAR