BEGIN:VCALENDAR
VERSION:2.0
PRODID:-//wp-events-plugin.com//7.2.3.1//EN
TZID:Europe/Berlin
X-WR-TIMEZONE:Europe/Berlin
BEGIN:VEVENT
UID:1287@drtv.de
DTSTART;TZID=Europe/Berlin:20191012T000000
DTEND;TZID=Europe/Berlin:20191012T000000
DTSTAMP:20230713T183504Z
URL:https://drtv.de/events/38-albert-friedrich-gedaechtnis-turnier/
SUMMARY:38. Albert Friedrich Gedächtnis-Turnier
DESCRIPTION:[prettyfilelink size="" src="https://www.drtv.de/wp-content/upl
 oads/2019/07/Albert-Friedrich-2019_aktuell_Ergebnisliste-Kurzform.pdf" typ
 e="pdf"]Albert-Friedrich-2019_aktuell_Ergebnisliste (Kurzform)[/prettyfile
 link]\n\n[prettyfilelink size="" src="https://www.drtv.de/wp-content/uploa
 ds/2019/07/Albert-Friedrich-2019_Teilnehmerliste.pdf" type="pdf"]Albert-Fr
 iedrich-2019_Teilnehmerliste[/prettyfilelink]\n\n&nbsp\;\n\n[prettyfilelin
 k size="" src="https://www.drtv.de/wp-content/uploads/2019/07/Albert-Fried
 rich_2019.pdf" type="pdf"]Albert-Friedrich_2019[/prettyfilelink]
CATEGORIES:Ergebnis Rasenkraftsport,Ergebnisdatei RDA liegt vor,Termin
 Rasenkraftsport,Termin Rasenkraftsport + Ausschr.
LOCATION:Ladenburg\, Römerstadion\, Ladenburg\, 68526\, Wurfanlage - Röme
 rstadion\, Deutschland
GEO:49.47476;8.606999999999971
X-APPLE-STRUCTURED-LOCATION;VALUE=URI;X-ADDRESS=Römerstadion\, Ladenburg\,
  68526\, Wurfanlage - Römerstadion\, Deutschland;X-APPLE-RADIUS=100;X-TIT
 LE=Ladenburg:geo:49.47476,8.606999999999971
END:VEVENT
BEGIN:VTIMEZONE
TZID:Europe/Berlin
X-LIC-LOCATION:Europe/Berlin
BEGIN:DAYLIGHT
DTSTART:20190331T030000
TZOFFSETFROM:+0100
TZOFFSETTO:+0200
TZNAME:CEST
END:DAYLIGHT
END:VTIMEZONE
END:VCALENDAR