BEGIN:VCALENDAR
VERSION:2.0
PRODID:-//wp-events-plugin.com//7.2.3.1//EN
TZID:Europe/Berlin
X-WR-TIMEZONE:Europe/Berlin
BEGIN:VEVENT
UID:433@drtv.de
DTSTART;TZID=Europe/Berlin:20140629T130000
DTEND;TZID=Europe/Berlin:20140629T130000
DTSTAMP:20230713T184026Z
URL:https://drtv.de/events/4-wettkampftag-ll-sudbaden-%e2%89%a4640-kg/
SUMMARY:4. Wettkampftag LL Südbaden ≤640 kg
DESCRIPTION:[prettyfilelink size="" src="https://www.drtv.de/wp-content/upl
 oads/2014/04/SRTV_LL_2014_4WK_Denzlingen_Ergebnisdienst_BFA-T_mit_Turnierl
 iste.pdf" type="pdf"]SRTV_LL_2014_4WK_Denzlingen_Ergebnisdienst_BFA-T_mit_
 Turnierliste[/prettyfilelink]\n\nAusrichter:\n\nVerband:   SRTV\n\nVerei
 n:      TZV Denzlingen\n\nDatum:      29.06.2014 Wiegen 10:00 Tu
 rnierbeginn 13:00\n\nOrt:          Tauziehplatz beim Mauracher Ho
 f\; 79211 Denzlingen
CATEGORIES:Ergebnis Tauziehen,Termin Tauziehen
LOCATION:Denzlingen\, Mauracher Hof\, Denzlingen\, Südbaden\, 79211\, Deut
 schland
GEO:48.07424959999999;7.90111509999997
X-APPLE-STRUCTURED-LOCATION;VALUE=URI;X-ADDRESS=Mauracher Hof\, Denzlingen\
 , Südbaden\, 79211\, Deutschland;X-APPLE-RADIUS=100;X-TITLE=Denzlingen:ge
 o:48.07424959999999,7.90111509999997
END:VEVENT
BEGIN:VTIMEZONE
TZID:Europe/Berlin
X-LIC-LOCATION:Europe/Berlin
BEGIN:DAYLIGHT
DTSTART:20140330T030000
TZOFFSETFROM:+0100
TZOFFSETTO:+0200
TZNAME:CEST
END:DAYLIGHT
END:VTIMEZONE
END:VCALENDAR