BEGIN:VCALENDAR
VERSION:2.0
PRODID:-//wp-events-plugin.com//7.2.3.1//EN
TZID:Europe/Berlin
X-WR-TIMEZONE:Europe/Berlin
BEGIN:VEVENT
UID:1286@drtv.de
DTSTART;TZID=Europe/Berlin:20190907T000000
DTEND;TZID=Europe/Berlin:20190908T000000
DTSTAMP:20230713T183504Z
URL:https://drtv.de/events/5-stuttgarter-highland-games/
SUMMARY:5. STUTTGARTER HIGHLAND GAMES
DESCRIPTION:[prettyfilelink size="" src="https://www.drtv.de/wp-content/upl
 oads/2019/07/Ausschreibung-Stuttgarter-Highland-Games-2019.pdf" type="pdf"
 ]Ausschreibung Stuttgarter Highland Games 2019[/prettyfilelink]
CATEGORIES:Termin Highland Games
LOCATION:Stuttgart\, Mercedesstraße 83\, Stuttgart\, Baden-Württemberg\, 
 70372\, Deutschland
GEO:48.79358;9.232579999999984
X-APPLE-STRUCTURED-LOCATION;VALUE=URI;X-ADDRESS=Mercedesstraße 83\, Stuttg
 art\, Baden-Württemberg\, 70372\, Deutschland;X-APPLE-RADIUS=100;X-TITLE=
 Stuttgart:geo:48.79358,9.232579999999984
END:VEVENT
BEGIN:VTIMEZONE
TZID:Europe/Berlin
X-LIC-LOCATION:Europe/Berlin
BEGIN:DAYLIGHT
DTSTART:20190331T030000
TZOFFSETFROM:+0100
TZOFFSETTO:+0200
TZNAME:CEST
END:DAYLIGHT
END:VTIMEZONE
END:VCALENDAR