BEGIN:VCALENDAR
VERSION:2.0
PRODID:-//wp-events-plugin.com//7.2.3.1//EN
TZID:Europe/Berlin
X-WR-TIMEZONE:Europe/Berlin
BEGIN:VEVENT
UID:434@drtv.de
DTSTART;TZID=Europe/Berlin:20140720T100000
DTEND;TZID=Europe/Berlin:20140720T100000
DTSTAMP:20230713T184026Z
URL:https://drtv.de/events/5-wettkampftag-ll-sudbaden-%e2%89%a4640-kg/
SUMMARY:5. Wettkampftag LL Südbaden ≤640 kg
DESCRIPTION:Ausrichter:\n\nVerband:     SRTV\n\nVerein:        D
 ream Team Siegelau\n\n[prettyfilelink size="" src="https://www.drtv.de/wp-
 content/uploads/2014/04/SRTV_LL_2014_5WK_Siegelau_Ergebnisdienst_BFA-T_mit
 _Turnierliste.pdf" type="pdf"]SRTV_LL_2014_5WK_Siegelau_Ergebnisdienst_BFA
 -T_mit_Turnierliste[/prettyfilelink]
CATEGORIES:Ergebnis Tauziehen,Termin Tauziehen
LOCATION:Siegelau\, Berghausweg 2\, Gutach-Siegelau\, Südbaden\, 79261\, D
 eutschland
GEO:48.13677;7.982330000000047
X-APPLE-STRUCTURED-LOCATION;VALUE=URI;X-ADDRESS=Berghausweg 2\, Gutach-Sieg
 elau\, Südbaden\, 79261\, Deutschland;X-APPLE-RADIUS=100;X-TITLE=Siegelau
 :geo:48.13677,7.982330000000047
END:VEVENT
BEGIN:VTIMEZONE
TZID:Europe/Berlin
X-LIC-LOCATION:Europe/Berlin
BEGIN:DAYLIGHT
DTSTART:20140330T030000
TZOFFSETFROM:+0100
TZOFFSETTO:+0200
TZNAME:CEST
END:DAYLIGHT
END:VTIMEZONE
END:VCALENDAR