BEGIN:VCALENDAR
VERSION:2.0
PRODID:-//wp-events-plugin.com//7.2.3.1//EN
TZID:Europe/Berlin
X-WR-TIMEZONE:Europe/Berlin
BEGIN:VEVENT
UID:68@drtv.de
DTSTART;TZID=Europe/Berlin;VALUE=DATE:20120812
DTEND;TZID=Europe/Berlin;VALUE=DATE:20120813
DTSTAMP:20230713T184241Z
URL:https://drtv.de/events/5-wk-srtv-juglig/
SUMMARY:6. WK SRTV JugLig
DESCRIPTION:[prettyfilelink src="https://www.drtv.de/wp-content/uploads/201
 2/04/SRTV_JL_2012_6WK_Neuried-Ergebnisdienst-BFA-T-mit-Turnierliste.pdf" t
 ype="pdf"]SRTV_JL_2012_6WK_Neuried-Ergebnisdienst BFA-T mit Turnierliste[/
 prettyfilelink]
CATEGORIES:Ergebnis Tauziehen,Termin Tauziehen
LOCATION:Neuried\, Viehweider Weg\, Neuried\, 77743\, Deutschland
GEO:48.40226;7.837210000000027
X-APPLE-STRUCTURED-LOCATION;VALUE=URI;X-ADDRESS=Viehweider Weg\, Neuried\, 
 77743\, Deutschland;X-APPLE-RADIUS=100;X-TITLE=Neuried:geo:48.40226,7.8372
 10000000027
END:VEVENT
BEGIN:VTIMEZONE
TZID:Europe/Berlin
X-LIC-LOCATION:Europe/Berlin
BEGIN:DAYLIGHT
DTSTART:20120325T030000
TZOFFSETFROM:+0100
TZOFFSETTO:+0200
TZNAME:CEST
END:DAYLIGHT
END:VTIMEZONE
END:VCALENDAR