BEGIN:VCALENDAR
VERSION:2.0
PRODID:-//wp-events-plugin.com//7.2.3.1//EN
TZID:Europe/Berlin
X-WR-TIMEZONE:Europe/Berlin
BEGIN:VEVENT
UID:435@drtv.de
DTSTART;TZID=Europe/Berlin:20140727T100000
DTEND;TZID=Europe/Berlin:20140727T100000
DTSTAMP:20230713T184026Z
URL:https://drtv.de/events/6-wettkampftag-ll-sudbaden-%e2%89%a4640-kg/
SUMMARY:6. Wettkampftag LL Südbaden ≤640 kg
DESCRIPTION:[prettyfilelink size="" src="https://www.drtv.de/wp-content/upl
 oads/2014/04/SRTV_LL_2014_6WK_Boellen_Ergebnisdienst_BFA-T_mit_Turnierlist
 e.pdf" type="pdf"]SRTV_LL_2014_6WK_Boellen_Ergebnisdienst_BFA-T_mit_Turnie
 rliste[/prettyfilelink]\n\nAusrichter:\n\nVerband:   SRTV\n\nVerein:  
     TzFr. Böllen\n\nDatum:      27.07.2014 Wiegen 08:30 Turnierbe
 ginn 10:00\n\nOrt:          79677 Schönau/Schwarzwald Bolzplatz 
 Schönau-Brand\; An der B 317(Brand 38)\;
CATEGORIES:Ergebnis Tauziehen,Termin Tauziehen
LOCATION:Kirchzarten - TZF Dietenbach\, Dietenbach 17\, Kirchzarten\, Südb
 aden\, 79199\, Deutschland
GEO:47.95931;7.950298
X-APPLE-STRUCTURED-LOCATION;VALUE=URI;X-ADDRESS=Dietenbach 17\, Kirchzarten
 \, Südbaden\, 79199\, Deutschland;X-APPLE-RADIUS=100;X-TITLE=Kirchzarten 
 - TZF Dietenbach:geo:47.95931,7.950298
END:VEVENT
BEGIN:VTIMEZONE
TZID:Europe/Berlin
X-LIC-LOCATION:Europe/Berlin
BEGIN:DAYLIGHT
DTSTART:20140330T030000
TZOFFSETFROM:+0100
TZOFFSETTO:+0200
TZNAME:CEST
END:DAYLIGHT
END:VTIMEZONE
END:VCALENDAR