BEGIN:VCALENDAR
VERSION:2.0
PRODID:-//wp-events-plugin.com//7.2.3.1//EN
TZID:Europe/Berlin
X-WR-TIMEZONE:Europe/Berlin
BEGIN:VEVENT
UID:914@drtv.de
DTSTART;TZID=Europe/Berlin;VALUE=DATE:20170304
DTEND;TZID=Europe/Berlin;VALUE=DATE:20170305
DTSTAMP:20230713T183744Z
URL:https://drtv.de/events/6436/
SUMMARY:HM Hallensteinstoßen 2017
DESCRIPTION:[prettyfilelink size="" src="https://www.drtv.de/wp-content/upl
 oads/2017/02/HM-Hallensteinstoßen-2017-._Ergebnisliste.pdf" type="pdf"]HM
  Hallensteinstoßen 2017 ++._Ergebnisliste[/prettyfilelink]\n\n[prettyfile
 link size="" src="https://www.drtv.de/wp-content/uploads/2017/02/HM-Hallen
 steinstoßen-2017_Teilnehmerliste.htm.pdf" type="pdf"]HM Hallensteinstoße
 n 2017_Teilnehmerliste.htm[/prettyfilelink]\n\n[prettyfilelink size="" src
 ="https://www.drtv.de/wp-content/uploads/2017/02/Steinstoßen-Halle-17.pdf
 " type="pdf"]HM Steinstoßen Halle 17   Ausschreibung[/prettyfilelink]
CATEGORIES:Ergebnis Rasenkraftsport,Ergebnisdatei RDA liegt vor,Termin
 Rasenkraftsport
LOCATION:Frankfurt-Kalbach\, Am Martinszehnten 2\, Kalbach\, 60437\, Halle 
 im Sportzentrum Kalbach\, Deutschland
GEO:50.186281;8.652148500000066
X-APPLE-STRUCTURED-LOCATION;VALUE=URI;X-ADDRESS=Am Martinszehnten 2\, Kalba
 ch\, 60437\, Halle im Sportzentrum Kalbach\, Deutschland;X-APPLE-RADIUS=10
 0;X-TITLE=Frankfurt-Kalbach:geo:50.186281,8.652148500000066
END:VEVENT
BEGIN:VTIMEZONE
TZID:Europe/Berlin
X-LIC-LOCATION:Europe/Berlin
BEGIN:STANDARD
DTSTART:20161030T020000
TZOFFSETFROM:+0200
TZOFFSETTO:+0100
TZNAME:CET
END:STANDARD
END:VTIMEZONE
END:VCALENDAR