BEGIN:VCALENDAR
VERSION:2.0
PRODID:-//wp-events-plugin.com//7.2.3.1//EN
TZID:Europe/Berlin
X-WR-TIMEZONE:Europe/Berlin
BEGIN:VEVENT
UID:436@drtv.de
DTSTART;TZID=Europe/Berlin:20140810T130000
DTEND;TZID=Europe/Berlin:20140810T130000
DTSTAMP:20230713T184027Z
URL:https://drtv.de/events/7-wettkampftag-ll-sudbaden-%e2%89%a4640-kg/
SUMMARY:7. Wettkampftag LL Südbaden ≤640 kg
DESCRIPTION:[prettyfilelink size="" src="https://www.drtv.de/wp-content/upl
 oads/2014/04/SRTV_LL_2014_7WK_Neuried_Ergebnisdienst_BFA-T_mit_Turnierlist
 e.pdf" type="pdf"]SRTV_LL_2014_7WK_Neuried_Ergebnisdienst_BFA-T_mit_Turnie
 rliste[/prettyfilelink]\n\nAusrichter:\n\nVerband:     SRTV\n\nVerein:
         TZC Neuried\n\nDatum:        10.08.2014 Wiegen 10:00 
 Turnierbeginn 13:00\n\nOrt:          77743 Neuried – Altenheim\
 ; Sportanlage Herbert Adam Halle
CATEGORIES:Ergebnis Tauziehen,Termin Tauziehen
LOCATION:Neuried\, Viehweider Weg\, Neuried\, 77743\, Deutschland
GEO:48.40226;7.837210000000027
X-APPLE-STRUCTURED-LOCATION;VALUE=URI;X-ADDRESS=Viehweider Weg\, Neuried\, 
 77743\, Deutschland;X-APPLE-RADIUS=100;X-TITLE=Neuried:geo:48.40226,7.8372
 10000000027
END:VEVENT
BEGIN:VTIMEZONE
TZID:Europe/Berlin
X-LIC-LOCATION:Europe/Berlin
BEGIN:DAYLIGHT
DTSTART:20140330T030000
TZOFFSETFROM:+0100
TZOFFSETTO:+0200
TZNAME:CEST
END:DAYLIGHT
END:VTIMEZONE
END:VCALENDAR