BEGIN:VCALENDAR
VERSION:2.0
PRODID:-//wp-events-plugin.com//7.2.3.1//EN
TZID:Europe/Berlin
X-WR-TIMEZONE:Europe/Berlin
BEGIN:VEVENT
UID:64@drtv.de
DTSTART;TZID=Europe/Berlin;VALUE=DATE:20120729
DTEND;TZID=Europe/Berlin;VALUE=DATE:20120730
DTSTAMP:20230713T184242Z
URL:https://drtv.de/events/7-wk-bundesliga-m640-5-wk-srtv-juglig/
SUMMARY:7. WK Bundesliga M640 + 5. WK SRTV JugLig
DESCRIPTION:[prettyfilelink src="https://www.drtv.de/wp-content/uploads/201
 2/04/DRTV_BL_2012_7WK-Siegelau-Ergebnisdienst-BFA-T-mit-Turnierliste.pdf" 
 type="pdf"]DRTV_BL_2012_7WK-Siegelau-Ergebnisdienst BFA-T mit Turnierliste
 [/prettyfilelink][prettyfilelink src="https://www.drtv.de/wp-content/uploa
 ds/2012/04/SRTV_JL_2012_5WK_Siegelau-Ergebnisdienst-BFA-T-mit-Turnierliste
 .pdf" type="pdf"]SRTV_JL_2012_5WK_Siegelau-Ergebnisdienst BFA-T mit Turnie
 rliste[/prettyfilelink]
CATEGORIES:Ergebnis Tauziehen,Termin Tauziehen
LOCATION:Siegelau\, Berghausweg 2\, Gutach-Siegelau\, Südbaden\, 79261\, D
 eutschland
GEO:48.13677;7.982330000000047
X-APPLE-STRUCTURED-LOCATION;VALUE=URI;X-ADDRESS=Berghausweg 2\, Gutach-Sieg
 elau\, Südbaden\, 79261\, Deutschland;X-APPLE-RADIUS=100;X-TITLE=Siegelau
 :geo:48.13677,7.982330000000047
END:VEVENT
BEGIN:VTIMEZONE
TZID:Europe/Berlin
X-LIC-LOCATION:Europe/Berlin
BEGIN:DAYLIGHT
DTSTART:20120325T030000
TZOFFSETFROM:+0100
TZOFFSETTO:+0200
TZNAME:CEST
END:DAYLIGHT
END:VTIMEZONE
END:VCALENDAR