BEGIN:VCALENDAR
VERSION:2.0
PRODID:-//wp-events-plugin.com//7.2.3.1//EN
TZID:Europe/Berlin
X-WR-TIMEZONE:Europe/Berlin
BEGIN:VEVENT
UID:1238@drtv.de
DTSTART;TZID=Europe/Berlin:20190519T000000
DTEND;TZID=Europe/Berlin:20190519T000000
DTSTAMP:20230713T183554Z
URL:https://drtv.de/events/9242/
SUMMARY:HAMMERWERFEN mit MUSIK
DESCRIPTION:[prettyfilelink size="" src="https://www.drtv.de/wp-content/upl
 oads/2019/03/2019-Gesamtergebnisse.pdf" type="pdf"]2019 Gesamtergebnisse[/
 prettyfilelink]\n\n[prettyfilelink size="" src="https://www.drtv.de/wp-con
 tent/uploads/2019/03/Ausschreibung-2019-mit-WiegenWerfen-mit-Musik.pdf" ty
 pe="pdf"]Ausschreibung 2019 mit WiegenWerfen mit Musik[/prettyfilelink]\n\
 nPoster  [prettyfilelink size="" src="https://www.drtv.de/wp-content/uplo
 ads/2019/03/Werfen-mit-Musik-2019-A3-NEU.pdf" type="pdf"]Werfen-mit-Musik-
 2019-A3-NEU[/prettyfilelink]\n\nCUP-Rekorde  [prettyfilelink size="" src=
 "https://www.drtv.de/wp-content/uploads/2019/03/C-U-P-Rekorde-Stand-2018.d
 ocx" type="doc"]C U P Rekorde Stand 2018[/prettyfilelink]
CATEGORIES:Ergebnis Rasenkraftsport,Termin Leichtathletik,Termin
 Rasenkraftsport,Termin Rasenkraftsport + Ausschr.
LOCATION:Langenbrand\, Bahnhofstrasse 9\, Forbach-Langenbrand\, 76596\, Spo
 rtplatz Langenbrand\, Deutschland
GEO:48.703715;8.35600880000004
X-APPLE-STRUCTURED-LOCATION;VALUE=URI;X-ADDRESS=Bahnhofstrasse 9\, Forbach-
 Langenbrand\, 76596\, Sportplatz Langenbrand\, Deutschland;X-APPLE-RADIUS=
 100;X-TITLE=Langenbrand:geo:48.703715,8.35600880000004
END:VEVENT
BEGIN:VTIMEZONE
TZID:Europe/Berlin
X-LIC-LOCATION:Europe/Berlin
BEGIN:DAYLIGHT
DTSTART:20190331T030000
TZOFFSETFROM:+0100
TZOFFSETTO:+0200
TZNAME:CEST
END:DAYLIGHT
END:VTIMEZONE
END:VCALENDAR