BEGIN:VCALENDAR
VERSION:2.0
PRODID:-//wp-events-plugin.com//7.2.3.1//EN
TZID:Europe/Berlin
X-WR-TIMEZONE:Europe/Berlin
BEGIN:VEVENT
UID:1239@drtv.de
DTSTART;TZID=Europe/Berlin:20190610T100000
DTEND;TZID=Europe/Berlin:20190614T140000
DTSTAMP:20230713T183554Z
URL:https://drtv.de/events/9246/
SUMMARY:Kaderlehrgang im Leistungszentrum Herzogenhorn - Abgesagt !!
DESCRIPTION:Geplanter Kaderlehrgang im Leistungszentrum Herzogenhorn musste
  abgesagt werden !!\n\n10.-14.6.2019\n\n&nbsp\;
CATEGORIES:Termin Rasenkraftsport
LOCATION:Herzogenhorn\, LZ Herzogenhorn\, Feldberg\, Baden-Württemberg\, 7
 9872\, Schwarzwald\, Deutschland
GEO:47.844277;8.018715
X-APPLE-STRUCTURED-LOCATION;VALUE=URI;X-ADDRESS=LZ Herzogenhorn\, Feldberg\
 , Baden-Württemberg\, 79872\, Schwarzwald\, Deutschland;X-APPLE-RADIUS=10
 0;X-TITLE=Herzogenhorn:geo:47.844277,8.018715
END:VEVENT
BEGIN:VTIMEZONE
TZID:Europe/Berlin
X-LIC-LOCATION:Europe/Berlin
BEGIN:DAYLIGHT
DTSTART:20190331T030000
TZOFFSETFROM:+0100
TZOFFSETTO:+0200
TZNAME:CEST
END:DAYLIGHT
END:VTIMEZONE
END:VCALENDAR