BEGIN:VCALENDAR
VERSION:2.0
PRODID:-//wp-events-plugin.com//7.2.3.1//EN
TZID:Europe/Berlin
X-WR-TIMEZONE:Europe/Berlin
BEGIN:VEVENT
UID:1912@drtv.de
DTSTART;TZID=Europe/Berlin:20260106T093000
DTEND;TZID=Europe/Berlin:20260106T170000
DTSTAMP:20260106T141610Z
URL:https://drtv.de/events/alfred-schuhbeck-gedaechtniswerfen-2026/
SUMMARY:Alfred Schuhbeck Gedächtniswerfen 2026
DESCRIPTION:\n\n\nAusschreibung\n2026_01_06_Wasserburg_ASGW\n\n\nErgebnisse
 \n2026.06.01. Alfred Schuhbeck Gedächtniswerfen_Ergebnisliste nach BRTV M
 odus\n\n\n\n&nbsp\;\n\n&nbsp\;
CATEGORIES:Termin Rasenkraftsport,Termin Rasenkraftsport + Ausschr.
LOCATION:Wasserburg\, Sportplatz am Badria\, Alkorstr.16\, Wasserburg\, Bay
 ern\, 83512\, Deutschland
GEO:48.050617;12.228029
X-APPLE-STRUCTURED-LOCATION;VALUE=URI;X-ADDRESS=Sportplatz am Badria\, Alko
 rstr.16\, Wasserburg\, Bayern\, 83512\, Deutschland;X-APPLE-RADIUS=100;X-T
 ITLE=Wasserburg:geo:48.050617,12.228029
END:VEVENT
BEGIN:VTIMEZONE
TZID:Europe/Berlin
X-LIC-LOCATION:Europe/Berlin
BEGIN:STANDARD
DTSTART:20251026T020000
TZOFFSETFROM:+0200
TZOFFSETTO:+0100
TZNAME:CET
END:STANDARD
END:VTIMEZONE
END:VCALENDAR