BEGIN:VCALENDAR
VERSION:2.0
PRODID:-//wp-events-plugin.com//7.2.3.1//EN
TZID:Europe/Berlin
X-WR-TIMEZONE:Europe/Berlin
BEGIN:VEVENT
UID:372@drtv.de
DTSTART;TZID=Europe/Berlin;VALUE=DATE:20140329
DTEND;TZID=Europe/Berlin;VALUE=DATE:20140330
DTSTAMP:20230713T184038Z
URL:https://drtv.de/events/bayerische-hallenmeisterschaften-im-steinstosen
 -3/
SUMMARY:Bayerische Hallenmeisterschaften im Steinstoßen
DESCRIPTION:[prettyfilelink size="" src="https://www.drtv.de/wp-content/upl
 oads/2014/01/BY2014Hallenmeisterschaft.pdf" type="pdf"]BY2014Hallenmeister
 schaft[/prettyfilelink]\n\n[prettyfilelink size="" src="https://www.drtv.d
 e/wp-content/uploads/2014/01/BMH2014_Ergebnisliste-Kurzform.htm" type="htm
 "]Ergebnisse[/prettyfilelink]
CATEGORIES:Ergebnis Rasenkraftsport,Ergebnisdatei RDA liegt vor,Termin
 Rasenkraftsport
LOCATION:Augsburg\, Oberer Schleisweg 11\, Augsburg\, Bayern\, Deutschland
GEO:48.387549;10.857131
X-APPLE-STRUCTURED-LOCATION;VALUE=URI;X-ADDRESS=Oberer Schleisweg 11\, Augs
 burg\, Bayern\, Deutschland;X-APPLE-RADIUS=100;X-TITLE=Augsburg:geo:48.387
 549,10.857131
END:VEVENT
BEGIN:VTIMEZONE
TZID:Europe/Berlin
X-LIC-LOCATION:Europe/Berlin
BEGIN:STANDARD
DTSTART:20131027T020000
TZOFFSETFROM:+0200
TZOFFSETTO:+0100
TZNAME:CET
END:STANDARD
END:VTIMEZONE
END:VCALENDAR