BEGIN:VCALENDAR
VERSION:2.0
PRODID:-//wp-events-plugin.com//7.2.3.1//EN
TZID:Europe/Berlin
X-WR-TIMEZONE:Europe/Berlin
BEGIN:VEVENT
UID:777@drtv.de
DTSTART;TZID=Europe/Berlin;VALUE=DATE:20160723
DTEND;TZID=Europe/Berlin;VALUE=DATE:20160724
DTSTAMP:20230713T183836Z
URL:https://drtv.de/events/bayerische-meisterschaften-aktive-und-senioren-
 2/
SUMMARY:Bayerische Meisterschaften Aktive und Senioren
DESCRIPTION:[prettyfilelink size="" src="https://www.drtv.de/wp-content/upl
 oads/2016/03/BM-Aktive-und-Senioren-am-23.07.pdf" type="pdf"]BM Aktive und
  Senioren am 23.07   mit BRTV-Klasseneinteilung[/prettyfilelink]\n\n[pre
 ttyfilelink size="" src="https://www.drtv.de/wp-content/uploads/2016/03/BM
 2016_Ergebnisliste-Kurzform.htm.pdf" type="pdf"]BM2016_Ergebnisliste (Kurz
 form)   mit DRTV-Klasseneinteilung[/prettyfilelink]\n\n[prettyfilelink s
 ize="" src="https://www.drtv.de/wp-content/uploads/2016/03/BRTV-Ausschreib
 ung2016-BY-1.pdf" type="pdf"]BRTV-Ausschreibung2016-BY[/prettyfilelink]\n\
 n[prettyfilelink size="" src="https://www.drtv.de/wp-content/uploads/2016/
 03/160710-zeitplan-Augsburg-BRTV.pdf" type="pdf"]160710-zeitplan-Augsburg-
 BRTV[/prettyfilelink]\n\n[prettyfilelink size="" src="https://www.drtv.de/
 wp-content/uploads/2016/03/Teilnehmerliste2016BYAugsburg.pdf" type="pdf"]T
 eilnehmerliste2016BYAugsburg[/prettyfilelink]\n\n&nbsp\;
CATEGORIES:Ergebnis Rasenkraftsport,Ergebnisdatei RDA liegt vor,Termin
 Rasenkraftsport
LOCATION:Augsburg\, Oberer Schleisweg 11\, Augsburg\, Bayern\, Deutschland
GEO:48.387549;10.857131
X-APPLE-STRUCTURED-LOCATION;VALUE=URI;X-ADDRESS=Oberer Schleisweg 11\, Augs
 burg\, Bayern\, Deutschland;X-APPLE-RADIUS=100;X-TITLE=Augsburg:geo:48.387
 549,10.857131
END:VEVENT
BEGIN:VTIMEZONE
TZID:Europe/Berlin
X-LIC-LOCATION:Europe/Berlin
BEGIN:DAYLIGHT
DTSTART:20160327T030000
TZOFFSETFROM:+0100
TZOFFSETTO:+0200
TZNAME:CEST
END:DAYLIGHT
END:VTIMEZONE
END:VCALENDAR