BEGIN:VCALENDAR
VERSION:2.0
PRODID:-//wp-events-plugin.com//7.2.3.1//EN
TZID:Europe/Berlin
X-WR-TIMEZONE:Europe/Berlin
BEGIN:VEVENT
UID:1145@drtv.de
DTSTART;TZID=Europe/Berlin:20190530T090000
DTEND;TZID=Europe/Berlin:20190530T180000
DTSTAMP:20230713T183614Z
URL:https://drtv.de/events/bayerische-meisterschaften-nachwuchs-geplant/
SUMMARY:Bayerische Meisterschaften Nachwuchs
DESCRIPTION:[prettyfilelink size="" src="https://www.drtv.de/wp-content/upl
 oads/2018/10/BY-Trauchgau-2019_Ergebnisliste.pdf" type="pdf"]BY-Trauchgau-
 2019_Ergebnisliste[/prettyfilelink]\n\n[prettyfilelink size="" src="https:
 //www.drtv.de/wp-content/uploads/2018/10/Bundesligaqualifikation2019Trauch
 gau.pdf" type="pdf"]Bundesligaqualifikation2019Trauchgau[/prettyfilelink]\
 n\n\n\n[prettyfilelink size="" src="https://www.drtv.de/wp-content/uploads
 /2018/10/BY-Trauchgau-2019_Teilnehmerliste.pdf" type="pdf"]BY-Trauchgau-20
 19_Teilnehmerliste[/prettyfilelink]\n\n[prettyfilelink size="" src="https:
 //www.drtv.de/wp-content/uploads/2018/10/190516-zeitplan-Trauchgau-BRTV.pd
 f" type="pdf"]190516-zeitplan-Trauchgau-BRTV[/prettyfilelink]\n\n[prettyfi
 lelink size="" src="https://www.drtv.de/wp-content/uploads/2018/10/BRTV-Au
 sschreibung2019-BYNachwuchs.pdf" type="pdf"]BRTV-Ausschreibung2019-BYNachw
 uchs[/prettyfilelink]
CATEGORIES:Ergebnis Rasenkraftsport,Ergebnisdatei RDA liegt vor,Termin
 Rasenkraftsport,Termin Rasenkraftsport + Ausschr.
LOCATION:Ladenburg\, Römerstadion\, Ladenburg\, 68526\, Wurfanlage - Röme
 rstadion\, Deutschland
GEO:49.47476;8.606999999999971
X-APPLE-STRUCTURED-LOCATION;VALUE=URI;X-ADDRESS=Römerstadion\, Ladenburg\,
  68526\, Wurfanlage - Römerstadion\, Deutschland;X-APPLE-RADIUS=100;X-TIT
 LE=Ladenburg:geo:49.47476,8.606999999999971
END:VEVENT
BEGIN:VTIMEZONE
TZID:Europe/Berlin
X-LIC-LOCATION:Europe/Berlin
BEGIN:DAYLIGHT
DTSTART:20190331T030000
TZOFFSETFROM:+0100
TZOFFSETTO:+0200
TZNAME:CEST
END:DAYLIGHT
END:VTIMEZONE
END:VCALENDAR