BEGIN:VCALENDAR
VERSION:2.0
PRODID:-//wp-events-plugin.com//7.2.3.1//EN
TZID:Europe/Berlin
X-WR-TIMEZONE:Europe/Berlin
BEGIN:VEVENT
UID:1008@drtv.de
DTSTART;TZID=Europe/Berlin:20180203T080000
DTEND;TZID=Europe/Berlin:20180203T183000
DTSTAMP:20230713T183656Z
URL:https://drtv.de/events/bayerische-meisterschaften-steinstossen-halle/
SUMMARY:Bayerische Meisterschaften Steinstoßen Halle
DESCRIPTION:[prettyfilelink size="" src="https://www.drtv.de/wp-content/upl
 oads/2017/12/BMH2018_Ergebnisliste.pdf" type="pdf"]BMH2018_Ergebnisliste[/
 prettyfilelink]\n\n&nbsp\;\n\n[prettyfilelink size="" src="https://www.drt
 v.de/wp-content/uploads/2017/12/BRTV-Ausschreibung2018-BYHalle_Komplett.pd
 f" type="pdf"]BRTV-Ausschreibung2018-BYHalle-Komplett[/prettyfilelink]\n\n
 [prettyfilelink size="" src="https://www.drtv.de/wp-content/uploads/2017/1
 2/2018-Teilnehmer-BY-Halle.pdf" type="pdf"]Teilnehmer - Stand 22.01.2018 0
 9:55[/prettyfilelink]\n\n[prettyfilelink size="" src="https://www.drtv.de/
 wp-content/uploads/2017/12/180203-Vereine-BRTV-1.pdf" type="pdf"]Zeitplan 
 - Stand 22.01.2018 19:27[/prettyfilelink]
CATEGORIES:Ergebnis Rasenkraftsport,Ergebnisdatei RDA liegt vor,Termin
 Rasenkraftsport,Termin Rasenkraftsport + Ausschr.
LOCATION:Augsburg Halle\, Ulrich-Hofmaier Str. 30\, Augsburg\, Bayern\, 861
 59\, Sporthalle am Rosenaustadion\, Deutschland
GEO:48.3560405;10.88048660000004
X-APPLE-STRUCTURED-LOCATION;VALUE=URI;X-ADDRESS=Ulrich-Hofmaier Str. 30\, A
 ugsburg\, Bayern\, 86159\, Sporthalle am Rosenaustadion\, Deutschland;X-AP
 PLE-RADIUS=100;X-TITLE=Augsburg Halle:geo:48.3560405,10.88048660000004
END:VEVENT
BEGIN:VTIMEZONE
TZID:Europe/Berlin
X-LIC-LOCATION:Europe/Berlin
BEGIN:STANDARD
DTSTART:20171029T020000
TZOFFSETFROM:+0200
TZOFFSETTO:+0100
TZNAME:CET
END:STANDARD
END:VTIMEZONE
END:VCALENDAR