BEGIN:VCALENDAR
VERSION:2.0
PRODID:-//wp-events-plugin.com//7.2.3.1//EN
TZID:Europe/Berlin
X-WR-TIMEZONE:Europe/Berlin
BEGIN:VEVENT
UID:1000@drtv.de
DTSTART;TZID=Europe/Berlin;VALUE=DATE:20180510
DTEND;TZID=Europe/Berlin;VALUE=DATE:20180511
DTSTAMP:20230713T183700Z
URL:https://drtv.de/events/bayerische-nachwuchsmeisterschaften-rks/
SUMMARY:Bayerische Nachwuchsmeisterschaften RKS mit Buliga Quali
DESCRIPTION:Ergebnisse nach WKO mit Mannschaften\n\n[prettyfilelink size=""
  src="https://www.drtv.de/wp-content/uploads/2017/11/BY2018-Nachwuchs-Trau
 chgau-V2_Ergebnisliste-Kurzform.pdf" type="pdf"]BY2018-Nachwuchs-Trauchgau
 -V2_Ergebnisliste (Kurzform)[/prettyfilelink]\n\nErgebnisse nach BRTV-Rege
 ln\n\n[prettyfilelink size="" src="https://www.drtv.de/wp-content/uploads/
 2017/11/BY2018-Nachwuchs-Trauchgau_Ergebnisliste-Kurzform.pdf" type="pdf"]
 BY2018-Nachwuchs-Trauchgau_Ergebnisliste (Kurzform)[/prettyfilelink]\n\nEr
 gebnis Bundesliga\n\n[prettyfilelink size="" src="https://www.drtv.de/wp-c
 ontent/uploads/2017/11/BY2018-Buli-Q-Trauchgau_Ergebnisliste.pdf" type="pd
 f"]BY2018-Buli-Q-Trauchgau_Ergebnisliste[/prettyfilelink]\n\n[prettyfileli
 nk size="" src="https://www.drtv.de/wp-content/uploads/2017/11/BRTV-Aussch
 reibung2018-BYNachwuchs.pdf" type="pdf"]BRTV-Ausschreibung2018-BYNachwuchs
 [/prettyfilelink]\n\n[prettyfilelink size="" src="https://www.drtv.de/wp-c
 ontent/uploads/2017/11/180427-zeitplan-Trauchgau-BRTV-1.pdf" type="pdf"]18
 0427-zeitplan-Trauchgau-BRTV Stand 27.04.18 21:29[/prettyfilelink]\n\n[pre
 ttyfilelink size="" src="https://www.drtv.de/wp-content/uploads/2017/11/BY
 2018-Nachwuchs-Trauchgau_Teilnehmerliste-3.pdf" type="pdf"]BY2018-Nachwuch
 s-Trauchgau_Teilnehmerliste Stand 27.04.18 21:23[/prettyfilelink]\n\nThema
  Mannschaften:\n\nMan kann Mannschaften nach den vollen DRTV Gewichtsklass
 en melden\, diese werden nach dem Wettkampf mit in die Ergebnisdatei genom
 men und sind rein für die deutsche Bestenliste gedacht.\n\nDie Bayerische
 n Mannschaftstitel werden nach einem relativ Modus ausgewertet:\n\n2 Teiln
 ehmer derselben Altersklasse können eine Mannschaft (Team) bilden. Die er
 reichten Punkten werden relativ gewertet\, sprich Punkte geteilt durch Kö
 rpergewicht\, wobei es in jeder Altersklasse ein Maximum gibt\, durch das 
 geteilt wird:\n\nwSC max 45\n\nwSB max 60\n\nwSA max 70\n\nwJB max 75\n\nw
 JA max 78\n\nwJun max 88\n\nmSC max 50\n\nmSB max 60\n\nmSA max 78\n\nmJB 
 max 92\n\nmJA max 95\n\nJun max 102\n\n&nbsp\;\n\nBitte schaut bei Euren T
 eilnehmern nach\, wie viele Mannschaften Ihr bilden könnt\, die Meldung k
 ostet nichts.
CATEGORIES:Ergebnis Rasenkraftsport,Ergebnisdatei RDA liegt vor,Termin
 Rasenkraftsport,Termin Rasenkraftsport + Ausschr.
LOCATION:Ladenburg\, Römerstadion\, Ladenburg\, 68526\, Wurfanlage - Röme
 rstadion\, Deutschland
GEO:49.47476;8.606999999999971
X-APPLE-STRUCTURED-LOCATION;VALUE=URI;X-ADDRESS=Römerstadion\, Ladenburg\,
  68526\, Wurfanlage - Römerstadion\, Deutschland;X-APPLE-RADIUS=100;X-TIT
 LE=Ladenburg:geo:49.47476,8.606999999999971
END:VEVENT
BEGIN:VTIMEZONE
TZID:Europe/Berlin
X-LIC-LOCATION:Europe/Berlin
BEGIN:DAYLIGHT
DTSTART:20180325T030000
TZOFFSETFROM:+0100
TZOFFSETTO:+0200
TZNAME:CEST
END:DAYLIGHT
END:VTIMEZONE
END:VCALENDAR