BEGIN:VCALENDAR
VERSION:2.0
PRODID:-//wp-events-plugin.com//7.2.3.1//EN
TZID:Europe/Berlin
X-WR-TIMEZONE:Europe/Berlin
BEGIN:VEVENT
UID:912@drtv.de
DTSTART;TZID=Europe/Berlin;VALUE=DATE:20170402
DTEND;TZID=Europe/Berlin;VALUE=DATE:20170403
DTSTAMP:20230713T183745Z
URL:https://drtv.de/events/bezirk-nordhessen-02-04-2017-werfertag-im-rasen
 kraftsport-dreikampf/
SUMMARY:Bezirk Nordhessen \,02.04.2017\, Werfertag im Rasenkraftsport - Dre
 ikampf
DESCRIPTION:[prettyfilelink size="" src="https://www.drtv.de/wp-content/upl
 oads/2017/02/020417-gilf-mit-Korrektur_Ergebnisliste-Kurzform.pdf" type="p
 df"]020417 gilf mit Korrektur_Ergebnisliste (Kurzform)[/prettyfilelink]\n\
 n[prettyfilelink size="" src="https://www.drtv.de/wp-content/uploads/2017/
 02/020417-gilf_Ergebnisliste.pdf" type="pdf"]020417-gilf_Ergebnisliste[/pr
 ettyfilelink]\n\nDer Bezirk Nordhessen beabsichtigt am 02.04.2017 einen We
 rfertag im Rasenkraftsport - Dreikampfdurchzuführen.\n\n[prettyfilelink s
 ize="" src="https://www.drtv.de/wp-content/uploads/2017/02/02.04.2017-NH-W
 T-in-Bebra-Ausschreibung.pdf" type="pdf"]02.04.2017 NH - WT in Bebra Aussc
 hreibung[/prettyfilelink]
CATEGORIES:Ergebnis Rasenkraftsport,Ergebnisdatei RDA liegt vor,Termin
 Rasenkraftsport,Termin Rasenkraftsport + Ausschr.
LOCATION:Bebra/Gilfershausen\, In den Dellen 26\, Bebra-Gilfershausen\, Hes
 sen\, 36179\, Sportpark\, Deutschland
GEO:50.98554;9.829799999999977
X-APPLE-STRUCTURED-LOCATION;VALUE=URI;X-ADDRESS=In den Dellen 26\, Bebra-Gi
 lfershausen\, Hessen\, 36179\, Sportpark\, Deutschland;X-APPLE-RADIUS=100;
 X-TITLE=Bebra/Gilfershausen:geo:50.98554,9.829799999999977
END:VEVENT
BEGIN:VTIMEZONE
TZID:Europe/Berlin
X-LIC-LOCATION:Europe/Berlin
BEGIN:DAYLIGHT
DTSTART:20170326T030000
TZOFFSETFROM:+0100
TZOFFSETTO:+0200
TZNAME:CEST
END:DAYLIGHT
END:VTIMEZONE
END:VCALENDAR