BEGIN:VCALENDAR
VERSION:2.0
PRODID:-//wp-events-plugin.com//7.2.3.1//EN
TZID:Europe/Berlin
X-WR-TIMEZONE:Europe/Berlin
BEGIN:VEVENT
UID:1143@drtv.de
DTSTART;TZID=Europe/Berlin:20190804T160000
DTEND;TZID=Europe/Berlin:20190809T130000
DTSTAMP:20230713T183614Z
URL:https://drtv.de/events/brtv-ferienlehrgang-2019-08/
SUMMARY:BRTV - Ferienlehrgang 2019-08
DESCRIPTION:Teilnahme nur nach Einladung durch Landestrainer BRTV
CATEGORIES:Termin Rasenkraftsport
LOCATION:Sportschule Oberhaching\, Im Loh 2\, Oberhaching\, Bayern\, 82041\
 , Deutschland
GEO:48.0362;11.590750000000071
X-APPLE-STRUCTURED-LOCATION;VALUE=URI;X-ADDRESS=Im Loh 2\, Oberhaching\, Ba
 yern\, 82041\, Deutschland;X-APPLE-RADIUS=100;X-TITLE=Sportschule Oberhach
 ing:geo:48.0362,11.590750000000071
END:VEVENT
BEGIN:VTIMEZONE
TZID:Europe/Berlin
X-LIC-LOCATION:Europe/Berlin
BEGIN:DAYLIGHT
DTSTART:20190331T030000
TZOFFSETFROM:+0100
TZOFFSETTO:+0200
TZNAME:CEST
END:DAYLIGHT
END:VTIMEZONE
END:VCALENDAR