BEGIN:VCALENDAR
VERSION:2.0
PRODID:-//wp-events-plugin.com//7.2.3.1//EN
TZID:Europe/Berlin
X-WR-TIMEZONE:Europe/Berlin
BEGIN:VEVENT
UID:337@drtv.de
DTSTART;TZID=Europe/Berlin;VALUE=DATE:20140511
DTEND;TZID=Europe/Berlin;VALUE=DATE:20140512
DTSTAMP:20230713T184104Z
URL:https://drtv.de/events/bundesliga-manner-mittelgewicht-%e2%89%a4640kg-
 1-wettkampftag/
SUMMARY:Bundesliga Männer Mittelgewicht ≤640kg - 1. Wettkampftag
DESCRIPTION:[prettyfilelink size="" src="https://www.drtv.de/wp-content/upl
 oads/2013/10/DRTV_BL_2014_1WK_Eschbachtal_Ergebnisdienst_BFA-T_mit_Turnier
 liste.pdf" type="pdf"]DRTV_BL_2014_1WK_Eschbachtal_Ergebnisdienst_BFA-T_mi
 t_Turnierliste[/prettyfilelink]\n\n&nbsp\;
CATEGORIES:Ergebnis Tauziehen,Termin Tauziehen
LOCATION:Stegen - TCZ Eschbachtal\, Festwiese\, Kirchzartenerstr.\, Stegen\
 , Südbaden\, 79252\, Deutschland
GEO:47.992263;7.977944
X-APPLE-STRUCTURED-LOCATION;VALUE=URI;X-ADDRESS=Festwiese\, Kirchzartenerst
 r.\, Stegen\, Südbaden\, 79252\, Deutschland;X-APPLE-RADIUS=100;X-TITLE=S
 tegen - TCZ Eschbachtal:geo:47.992263,7.977944
END:VEVENT
BEGIN:VTIMEZONE
TZID:Europe/Berlin
X-LIC-LOCATION:Europe/Berlin
BEGIN:DAYLIGHT
DTSTART:20140330T030000
TZOFFSETFROM:+0100
TZOFFSETTO:+0200
TZNAME:CEST
END:DAYLIGHT
END:VTIMEZONE
END:VCALENDAR