BEGIN:VCALENDAR
VERSION:2.0
PRODID:-//wp-events-plugin.com//7.2.3.1//EN
TZID:Europe/Berlin
X-WR-TIMEZONE:Europe/Berlin
BEGIN:VEVENT
UID:344@drtv.de
DTSTART;TZID=Europe/Berlin:20140615T124500
DTEND;TZID=Europe/Berlin:20140615T160000
DTSTAMP:20230713T184103Z
URL:https://drtv.de/events/deutsche-meisterschaft-im-leicht-mittelgewicht-
 %e2%89%a4600-kg/
SUMMARY:Deutsche Meisterschaft im Leicht – Mittelgewicht ≤600 kg
DESCRIPTION:[prettyfilelink size="" src="https://www.drtv.de/wp-content/upl
 oads/2013/10/DM600_2014_Goldscheuer-Ergebnisdienst-BFA-T.pdf" type="pdf"]D
 M600_2014_Goldscheuer-Ergebnisdienst BFA-T[/prettyfilelink][prettyfilelink
  size="" src="https://www.drtv.de/wp-content/uploads/2013/10/aM2014_DM6001
 .docx" type="doc"]aM2014_DM600[/prettyfilelink][prettyfilelink size="" src
 ="https://www.drtv.de/wp-content/uploads/2013/10/a_0615_DM-600Goldscheuer2
 014.docx" type="doc"]a_0615_DM 600Goldscheuer2014[/prettyfilelink]\n\nBei 
 den Deutschen Meisterschaften der 600-kg-Klasse im Tauziehen am 15. Juni i
 n Kehl-Goldscheuer gab es einen Wechsel: Der Vorjahresmeister Tauziefreund
 e Böllen musste im Finale nach drei Zügen (der dritte endete nach drei V
 erwarnungen vorzeitig) in diesem Jahr dem Gastgeber Sportfreunde Goldscheu
 er den Vortritt überlassen. Dritter wurde überraschend Dreamteam Siegela
 u.\nIm Rahmen dieser Titelkämpfe wurde erstmals ein nationales Frauenturn
 ier ausgetragen. Hier siegten am Ende die Tauziehfreunde Dietenbach vor de
 n Damen von Allgäu-Power Zell und der Startgemeinschaft Kaiserberg/Pfahlb
 ronn.\n(Fotos erhalten Sie von der Siegerehrung der Männer\, den Sportfre
 unden Goldscheuer und den Frauen der Tauziehfreunde Dietenbach.)\nG.H. Fah
 rion\n\n   
CATEGORIES:Ergebnis Tauziehen,Termin Tauziehen
LOCATION:Kehl-Goldscheuer Sportplatz\, Kittersburger Strasse 17-23\, Kehl-G
 oldscheuer\, Südbaden\, 77694\, Deutschland
GEO:48.50593569999999;7.826692900000012
X-APPLE-STRUCTURED-LOCATION;VALUE=URI;X-ADDRESS=Kittersburger Strasse 17-23
 \, Kehl-Goldscheuer\, Südbaden\, 77694\, Deutschland;X-APPLE-RADIUS=100;X
 -TITLE=Kehl-Goldscheuer Sportplatz:geo:48.50593569999999,7.826692900000012
END:VEVENT
BEGIN:VTIMEZONE
TZID:Europe/Berlin
X-LIC-LOCATION:Europe/Berlin
BEGIN:DAYLIGHT
DTSTART:20140330T030000
TZOFFSETFROM:+0100
TZOFFSETTO:+0200
TZNAME:CEST
END:DAYLIGHT
END:VTIMEZONE
END:VCALENDAR