BEGIN:VCALENDAR
VERSION:2.0
PRODID:-//wp-events-plugin.com//7.2.3.1//EN
TZID:Europe/Berlin
X-WR-TIMEZONE:Europe/Berlin
BEGIN:VEVENT
UID:1458@drtv.de
DTSTART;TZID=Europe/Berlin;VALUE=DATE:20210718
DTEND;TZID=Europe/Berlin;VALUE=DATE:20210719
DTSTAMP:20230713T183350Z
URL:https://drtv.de/events/deutsche-meisterschaften-maenner-600-und-mixed-
 senioren/
SUMMARY:Deutsche Meisterschaften Männer 640 kg
DESCRIPTION:Ergebnisse:\n\n[prettyfilelink size="" src="https://www.drtv.de
 /wp-content/uploads/2021/02/2021-07-18-DM-640kg-Simonswald-Turnierliste.pd
 f" type="pdf"]2021-07-18 DM-640kg Simonswald-Turnierliste[/prettyfilelink]
 \n\n[prettyfilelink size="" src="https://www.drtv.de/wp-content/uploads/20
 21/02/2021-07-18-Offenes-Mixed-600-kg-Simonswald-Turnierliste.pdf" type="p
 df"]2021-07-18 Offenes Mixed 600 kg Simonswald-Turnierliste[/prettyfilelin
 k]\n\n&nbsp\;\n\nInformationen und Ausschreibung folgen.\n\nGewichtsklasse
 /n: 640 kg Männer\,\n\nWiegen: 09.00-10.00 Uhr\n\nWettkampfbeginn: 11.30
   Uhr
CATEGORIES:Ergebnis Tauziehen,Termin Tauziehen
LOCATION:Simonswald\, Sportplatzweg\, Simonswald\, Südbaden\, 79263\, Deut
 schland
GEO:48.09395989999999;8.092868700000053
X-APPLE-STRUCTURED-LOCATION;VALUE=URI;X-ADDRESS=Sportplatzweg\, Simonswald\
 , Südbaden\, 79263\, Deutschland;X-APPLE-RADIUS=100;X-TITLE=Simonswald:ge
 o:48.09395989999999,8.092868700000053
END:VEVENT
BEGIN:VTIMEZONE
TZID:Europe/Berlin
X-LIC-LOCATION:Europe/Berlin
BEGIN:DAYLIGHT
DTSTART:20210328T030000
TZOFFSETFROM:+0100
TZOFFSETTO:+0200
TZNAME:CEST
END:DAYLIGHT
END:VTIMEZONE
END:VCALENDAR