BEGIN:VCALENDAR
VERSION:2.0
PRODID:-//wp-events-plugin.com//7.2.3.1//EN
TZID:Europe/Berlin
X-WR-TIMEZONE:Europe/Berlin
BEGIN:VEVENT
UID:1013@drtv.de
DTSTART;TZID=Europe/Berlin;VALUE=DATE:20180715
DTEND;TZID=Europe/Berlin;VALUE=DATE:20180716
DTSTAMP:20230713T183657Z
URL:https://drtv.de/events/deutsche-meisterschaften-maenner-und-frauen/
SUMMARY:Deutsche Meisterschaften Männer und Frauen
DESCRIPTION:[prettyfilelink size="" src="https://www.drtv.de/wp-content/upl
 oads/2017/12/Dischingen-2018-07-15_Ergebnisliste.pdf" type="pdf"]Dischinge
 n-2018-07-15_Ergebnisliste[/prettyfilelink]\n\n&nbsp\;\n\nTeilnehmer ohne 
 Gewähr\n\n[prettyfilelink size="" src="https://www.drtv.de/wp-content/upl
 oads/2017/12/Dischingen-2018-07-15_Teilnehmerliste.pdf" type="pdf"]Dischin
 gen-2018-07-15_Teilnehmerliste[/prettyfilelink]\n\n&nbsp\;\n\n[prettyfilel
 ink size="" src="https://www.drtv.de/wp-content/uploads/2017/12/Ausschreib
 ung-DM-FM-2018.pdf" type="pdf"]Ausschreibung-DM-F+M-2018[/prettyfilelink]
CATEGORIES:Ergebnis Rasenkraftsport,Ergebnisdatei RDA liegt vor,Termin
 Rasenkraftsport,Termin Rasenkraftsport + Ausschr.
LOCATION:Dischingen\, Turnstraße 5\, Dischingen\, Baden-Württemberg\, 895
 61\, Werferplatz (an Egauhalle)\, Deutschland
GEO:48.69521;10.361009999999964
X-APPLE-STRUCTURED-LOCATION;VALUE=URI;X-ADDRESS=Turnstraße 5\, Dischingen\
 , Baden-Württemberg\, 89561\, Werferplatz (an Egauhalle)\, Deutschland;X-
 APPLE-RADIUS=100;X-TITLE=Dischingen:geo:48.69521,10.361009999999964
END:VEVENT
BEGIN:VTIMEZONE
TZID:Europe/Berlin
X-LIC-LOCATION:Europe/Berlin
BEGIN:DAYLIGHT
DTSTART:20180325T030000
TZOFFSETFROM:+0100
TZOFFSETTO:+0200
TZNAME:CEST
END:DAYLIGHT
END:VTIMEZONE
END:VCALENDAR