BEGIN:VCALENDAR
VERSION:2.0
PRODID:-//wp-events-plugin.com//7.2.3.1//EN
TZID:Europe/Berlin
X-WR-TIMEZONE:Europe/Berlin
BEGIN:VEVENT
UID:1010@drtv.de
DTSTART;TZID=Europe/Berlin;VALUE=DATE:20180922
DTEND;TZID=Europe/Berlin;VALUE=DATE:20180924
DTSTAMP:20230713T183657Z
URL:https://drtv.de/events/deutsche-meisterschaften-nachwuchs/
SUMMARY:Deutsche Meisterschaften Nachwuchs
DESCRIPTION:[prettyfilelink size="" src="https://www.drtv.de/wp-content/upl
 oads/2017/12/DM-Dissen-22-09-2018_Teilnehmerliste-3.pdf" type="pdf"]DM-Dis
 sen-22-09-2018_Teilnehmerliste[/prettyfilelink]\n\n[prettyfilelink size=""
  src="https://www.drtv.de/wp-content/uploads/2017/12/Ausschreibung-2018-DM
 -Nachwuchs.pdf" type="pdf"]Ausschreibung-2018-DM-Nachwuchs[/prettyfilelink
 ]\n\n[prettyfilelink size="" src="https://www.drtv.de/wp-content/uploads/2
 017/12/DMNachwuchs2018Dissen-Tag1.pdf" type="pdf"]DM Nachwuchs 2018 Dissen
  - Tag 1[/prettyfilelink]\n\n[prettyfilelink size="" src="https://www.drtv
 .de/wp-content/uploads/2017/12/DM-Dissen-Gesamtergebnisliste.pdf" type="pd
 f"]DM-Dissen-Gesamtergebnisliste[/prettyfilelink]
CATEGORIES:Ergebnis Rasenkraftsport,Ergebnisdatei RDA liegt vor,Termin
 Rasenkraftsport,Termin Rasenkraftsport + Ausschr.
LOCATION:Dissen\, Sportfreianlage Dissen\, Mühlenstraße\, Dissen\, 49201\
 , Deutschland
GEO:52.1181596;8.201680099999976
X-APPLE-STRUCTURED-LOCATION;VALUE=URI;X-ADDRESS=Sportfreianlage Dissen\, M
 ühlenstraße\, Dissen\, 49201\, Deutschland;X-APPLE-RADIUS=100;X-TITLE=Di
 ssen:geo:52.1181596,8.201680099999976
END:VEVENT
BEGIN:VTIMEZONE
TZID:Europe/Berlin
X-LIC-LOCATION:Europe/Berlin
BEGIN:DAYLIGHT
DTSTART:20180325T030000
TZOFFSETFROM:+0100
TZOFFSETTO:+0200
TZNAME:CEST
END:DAYLIGHT
END:VTIMEZONE
END:VCALENDAR