BEGIN:VCALENDAR
VERSION:2.0
PRODID:-//wp-events-plugin.com//7.2.3.1//EN
TZID:Europe/Berlin
X-WR-TIMEZONE:Europe/Berlin
BEGIN:VEVENT
UID:1014@drtv.de
DTSTART;TZID=Europe/Berlin;VALUE=DATE:20180825
DTEND;TZID=Europe/Berlin;VALUE=DATE:20180827
DTSTAMP:20230713T183656Z
URL:https://drtv.de/events/deutsche-meisterschaften-senioren-3/
SUMMARY:Deutsche Meisterschaften Senioren
DESCRIPTION:[prettyfilelink size="" src="https://www.drtv.de/wp-content/upl
 oads/2017/12/DM-Senioren-25-08-2018.pdf" type="pdf"]DM-Senioren-25-08-2018
 [/prettyfilelink]\n\n[prettyfilelink size="" src="https://www.drtv.de/wp-c
 ontent/uploads/2017/12/DM-Senioren-2018-08-26_Ergebnisliste.pdf" type="pdf
 "]DM-Senioren-2018-08-26_Ergebnisliste-korr.[/prettyfilelink]\n\n&nbsp\;\n
 \nKorrigierte Meldeliste - ohne Gewähr! -\n\n[prettyfilelink size="" src=
 "https://www.drtv.de/wp-content/uploads/2017/12/DM-Senioren-2018-08-25_Tei
 lnehmerliste-2.pdf" type="pdf"]DM-Senioren-2018-08-25_Teilnehmerliste[/pre
 ttyfilelink]\n\n[prettyfilelink size="" src="https://www.drtv.de/wp-conten
 t/uploads/2017/12/Ausschreibung-DM-Senioren-2018-1.pdf" type="pdf"]Ausschr
 eibung-DM-Senioren-2018[/prettyfilelink]\n\n&nbsp\;\nHotel Ratskeller in L
 üchow ist ausgebucht - \nWeitere Unterkünfte: www.Wendland-Elbe.de
CATEGORIES:Ergebnis Rasenkraftsport,Ergebnisdatei RDA liegt vor,Termin
 Rasenkraftsport,Termin Rasenkraftsport + Ausschr.
LOCATION:Lüchow\, Schulweg 4\, Lüchow\, Niedersachsen\, 29439\, Sportplat
 z im Schulzentrum Lüchow\, Deutschland
GEO:52.9652953;11.161873499999956
X-APPLE-STRUCTURED-LOCATION;VALUE=URI;X-ADDRESS=Schulweg 4\, Lüchow\, Nied
 ersachsen\, 29439\, Sportplatz im Schulzentrum Lüchow\, Deutschland;X-A
 PPLE-RADIUS=100;X-TITLE=Lüchow:geo:52.9652953,11.161873499999956
END:VEVENT
BEGIN:VTIMEZONE
TZID:Europe/Berlin
X-LIC-LOCATION:Europe/Berlin
BEGIN:DAYLIGHT
DTSTART:20180325T030000
TZOFFSETFROM:+0100
TZOFFSETTO:+0200
TZNAME:CEST
END:DAYLIGHT
END:VTIMEZONE
END:VCALENDAR