BEGIN:VCALENDAR
VERSION:2.0
PRODID:-//wp-events-plugin.com//7.2.3.1//EN
TZID:Europe/Berlin
X-WR-TIMEZONE:Europe/Berlin
BEGIN:VEVENT
UID:1002@drtv.de
DTSTART;TZID=Europe/Berlin:20180317T080000
DTEND;TZID=Europe/Berlin:20180318T160000
DTSTAMP:20230713T183659Z
URL:https://drtv.de/events/deutsche-meisterschaften-steinstossen-halle/
SUMMARY:Deutsche Meisterschaften Steinstoßen Halle
DESCRIPTION:Ergebnisse 2. Tag\n\n[prettyfilelink size="" src="https://www.d
 rtv.de/wp-content/uploads/2017/11/17032018_Ergebnisliste.pdf" type="pdf"]1
 7032018_Ergebnisliste[/prettyfilelink]\n\nErgebnisse 1. Tag\n\n[prettyfile
 link size="" src="https://www.drtv.de/wp-content/uploads/2017/11/18032018_
 Ergebnisliste.pdf" type="pdf"]18032018_Ergebnisliste[/prettyfilelink]\n\n&
 nbsp\;\n\n[prettyfilelink size="" src="https://www.drtv.de/wp-content/uplo
 ads/2017/11/erfurt-17032018_Teilnehmerliste-1.pdf" type="pdf"]erfurt-17032
 018_Teilnehmerliste[/prettyfilelink]\n\n[prettyfilelink size="" src="https
 ://www.drtv.de/wp-content/uploads/2017/11/Ausschreibung-2018-DM-Halle.pdf"
  type="pdf"]Ausschreibung 2018 DM RKS Halle[/prettyfilelink]\n\n[prettyfil
 elink size="" src="https://www.drtv.de/wp-content/uploads/2017/11/Erfurt-1
 7.03.2018-DMHalle-Tag1.pdf" type="pdf"]Ergebnisliste-Erfurt-17.03.2018-DMH
 alle-Tag1[/prettyfilelink]
CATEGORIES:Ergebnis Rasenkraftsport,Ergebnisdatei RDA liegt vor,Termin
 Rasenkraftsport,Termin Rasenkraftsport + Ausschr.
LOCATION:Erfurt\, Johann-Sebastian-Bach-Straße 2\, Erfurt\, Thüringen\, 9
 9096\, Steigerwaldstadion / Wurfplatz\, Deutschland
GEO:50.962325;11.037531
X-APPLE-STRUCTURED-LOCATION;VALUE=URI;X-ADDRESS=Johann-Sebastian-Bach-Stra
 ße 2\, Erfurt\, Thüringen\, 99096\, Steigerwaldstadion / Wurfplatz\, Deu
 tschland;X-APPLE-RADIUS=100;X-TITLE=Erfurt:geo:50.962325,11.037531
END:VEVENT
BEGIN:VTIMEZONE
TZID:Europe/Berlin
X-LIC-LOCATION:Europe/Berlin
BEGIN:STANDARD
DTSTART:20171029T020000
TZOFFSETFROM:+0200
TZOFFSETTO:+0100
TZNAME:CET
END:STANDARD
END:VTIMEZONE
END:VCALENDAR