BEGIN:VCALENDAR
VERSION:2.0
PRODID:-//wp-events-plugin.com//7.2.3.1//EN
TZID:Europe/Berlin
X-WR-TIMEZONE:Europe/Berlin
BEGIN:VEVENT
UID:69@drtv.de
DTSTART;TZID=Europe/Berlin;VALUE=DATE:20120819
DTEND;TZID=Europe/Berlin;VALUE=DATE:20120820
DTSTAMP:20230713T184241Z
URL:https://drtv.de/events/deutschen-meisterschaft-m720-jug-450/
SUMMARY:Deutschen Meisterschaft Schwergewicht 720 kg und Jugendklasse 450 k
 g
DESCRIPTION:[prettyfilelink src="https://www.drtv.de/wp-content/uploads/201
 2/04/2012-DM450-ErgebnisdienstBFA-T.pdf" type="pdf"]2012 DM450 Ergebnisdie
 nstBFA-T[/prettyfilelink][prettyfilelink src="https://www.drtv.de/wp-conte
 nt/uploads/2012/04/DM450-2012-Turnierliste-Ergebnisdienst-BFA-T-2.pdf" typ
 e="pdf"]DM450-2012-Turnierliste-Ergebnisdienst-BFA-T (2)[/prettyfilelink][
 prettyfilelink src="https://www.drtv.de/wp-content/uploads/2012/04/2012_DM
 720-Ergebnisdienst-BFA-T-2.pdf" type="pdf"]2012_DM720-Ergebnisdienst BFA-T
  (2)[/prettyfilelink][prettyfilelink src="https://www.drtv.de/wp-content/u
 ploads/2012/04/DM720-2012-Turnierliste-Ergebnisdienst-BFA-T.pdf" type="pdf
 "]DM720-2012-Turnierliste-Ergebnisdienst-BFA-T[/prettyfilelink][prettyfile
 link src="https://www.drtv.de/wp-content/uploads/2012/04/A_0819_Philippine
 nburg.pdf" type="pdf"]A_0819_Philippinenburg[/prettyfilelink][prettyfileli
 nk src="https://www.drtv.de/wp-content/uploads/2012/04/BFA-T-Meldebogen-DM
 720Philippinenburg.doc" type="doc"]BFA-T Meldebogen DM720Philippinenburg[/
 prettyfilelink]
CATEGORIES:Ergebnis Tauziehen,Termin Tauziehen
LOCATION:Wolfhagen-Philippinenburg\, Philippinenburg 34\, Wolfhagen-Philipp
 inenburg\, Hessen\, 34466\, Deutschland
GEO:51.32623;9.21505000000002
X-APPLE-STRUCTURED-LOCATION;VALUE=URI;X-ADDRESS=Philippinenburg 34\, Wolfha
 gen-Philippinenburg\, Hessen\, 34466\, Deutschland;X-APPLE-RADIUS=100;X-TI
 TLE=Wolfhagen-Philippinenburg:geo:51.32623,9.21505000000002
END:VEVENT
BEGIN:VTIMEZONE
TZID:Europe/Berlin
X-LIC-LOCATION:Europe/Berlin
BEGIN:DAYLIGHT
DTSTART:20120325T030000
TZOFFSETFROM:+0100
TZOFFSETTO:+0200
TZNAME:CEST
END:DAYLIGHT
END:VTIMEZONE
END:VCALENDAR