BEGIN:VCALENDAR
VERSION:2.0
PRODID:-//wp-events-plugin.com//7.2.3.1//EN
TZID:Europe/Berlin
X-WR-TIMEZONE:Europe/Berlin
BEGIN:VEVENT
UID:810@drtv.de
DTSTART;TZID=Europe/Berlin:20160702T090000
DTEND;TZID=Europe/Berlin:20160702T173000
DTSTAMP:20230713T183828Z
URL:https://drtv.de/events/drtv-aktive-maenner-frauen/
SUMMARY:DRTV Aktive Männer + Frauen
DESCRIPTION:[prettyfilelink size="" src="https://www.drtv.de/wp-content/upl
 oads/2015/11/DM02072016-E_Ergebnisliste.htm.pdf" type="pdf"]DM02072016-E_E
 rgebnisliste.htm[/prettyfilelink]\n\n[prettyfilelink size="" src="https://
 www.drtv.de/wp-content/uploads/2016/06/DM02072016_Teilnehmerliste.htm-1.pd
 f" type="pdf"]DM02072016_Teilnehmerliste.htm[/prettyfilelink]\nAchtung Än
 derung auf  Samstag\, 2.7.2016\n[prettyfilelink size="" src="https://www.
 drtv.de/wp-content/uploads/2016/06/Ausschreibung-DM-FM-2016neu.pdf" type="
 pdf"]Ausschreibung-DM-F+M-2016neu[/prettyfilelink]
CATEGORIES:Ergebnis Rasenkraftsport,Ergebnisdatei RDA liegt vor,Termin
 Rasenkraftsport
LOCATION:Leichlingen\, Balker Aue\, Leichlingen\, NRW\, 42799\, Sportzentru
 m\, Deutschland
GEO:51.09511;7.016849999999977
X-APPLE-STRUCTURED-LOCATION;VALUE=URI;X-ADDRESS=Balker Aue\, Leichlingen\, 
 NRW\, 42799\, Sportzentrum\, Deutschland;X-APPLE-RADIUS=100;X-TITLE=Leichl
 ingen:geo:51.09511,7.016849999999977
END:VEVENT
BEGIN:VTIMEZONE
TZID:Europe/Berlin
X-LIC-LOCATION:Europe/Berlin
BEGIN:DAYLIGHT
DTSTART:20160327T030000
TZOFFSETFROM:+0100
TZOFFSETTO:+0200
TZNAME:CEST
END:DAYLIGHT
END:VTIMEZONE
END:VCALENDAR